BEGIN:VCALENDAR
VERSION:2.0
PRODID:-//Olimpo 2 - Terme &amp; Privè Club | Centro spa trasgressivo Avellino - ECPv6.15.20//NONSGML v1.0//EN
CALSCALE:GREGORIAN
METHOD:PUBLISH
X-WR-CALNAME:Olimpo 2 - Terme &amp; Privè Club | Centro spa trasgressivo Avellino
X-ORIGINAL-URL:https://www.olimpo2.it
X-WR-CALDESC:Eventi per Olimpo 2 - Terme &amp; Privè Club | Centro spa trasgressivo Avellino
REFRESH-INTERVAL;VALUE=DURATION:PT1H
X-Robots-Tag:noindex
X-PUBLISHED-TTL:PT1H
BEGIN:VTIMEZONE
TZID:UTC
BEGIN:STANDARD
TZOFFSETFROM:+0000
TZOFFSETTO:+0000
TZNAME:UTC
DTSTART:20250101T000000
END:STANDARD
END:VTIMEZONE
BEGIN:VEVENT
DTSTART;TZID=UTC:20260221T153000
DTEND;TZID=UTC:20260222T050000
DTSTAMP:20260423T182602
CREATED:20260119T185949Z
LAST-MODIFIED:20260119T190846Z
UID:5953-1771687800-1771736400@www.olimpo2.it
SUMMARY:ORGASMO
DESCRIPTION:Sabato 21 febbraio 2026 \nSPA WELLNESS DALLE 15.30 ALLE 20.30. PARTY DALLE 21.30 ALLE 5.00 \nLa Regina sbarca ad Avellino per presentarvi Orgasmo\, l’evento più esclusivo e trasgressivo della stagione\, una serata di gala concepita per unire la massima eleganza alla pura seduzione. Sarete immersi in un intrattenimento continuo e spettacolare che spazia dal cabaret al burlesque\, dalla musica dal vivo alle arti figurative. Tutto si svolgerà in uno scenario reso unico dal tocco scenografico ed esclusivo della Regina dell’Olimpo. La notte si accenderà con uno show inedito\, creato appositamente per questo evento: oltre venti artisti vi trascineranno in un vortice di emozioni\, accompagnati da un ritmo travolgente di disco\, house e pop music per rendere la vostra esperienza indimenticabile.\nArt director Nick Paino\, Club Hosts Parthenope e Ulisse\, Sensual Voice Crazy Love\, Eros DJ\, Swinger Dance e Sexy Animation.\nIl nostro circolo privato garantisce un ambiente sicuro\, fondato sul rispetto della libertà e del consenso\, dove ogni socio può esplorare la propria sensualità in modo autentico. \nCOMUNICAZIONE RISERVATA AI SOCI \nAll’interno del circolo è attivo un servizio di security. Garantiamo la tua massima riservatezza. \nPer informazioni chiamaci al 327 3560315 (anche via WhatsApp) \nSEGUI GLI EVENTI SUL NOSTRO CANALE TELEGRAM E ISCRIVITI ALLA NOSTRA NEWSLETTER DALLA HOME PAGE DEL SITO OLIMPO2.IT:\nhttps://t.me/Olimpo2Avellino/241 \nCHATTA CON NOI SU TELEGRAM:\nhttps://web.telegram.org/a/#1190578739 \nCi trovi anche su Annunci69\, Spicy Match\, IOL\, Facebook\, Youtube\, Instagram.
URL:https://www.olimpo2.it/evento/orgasmo-21-febbraio-2026/
LOCATION:Olimpo 2\, Contrada Via Fratte snc zona Pip. Avellino\, Forino\, AV\, 83020\, Italia
CATEGORIES:Sabato
ATTACH;FMTTYPE=image/png:https://www.olimpo2.it/wp-content/uploads/2026/01/09-21-febbraio-2026-1.png
END:VEVENT
END:VCALENDAR