BEGIN:VCALENDAR
VERSION:2.0
PRODID:-//Olimpo 2 - Terme &amp; Privè Club | Centro spa trasgressivo Avellino - ECPv6.15.15//NONSGML v1.0//EN
CALSCALE:GREGORIAN
METHOD:PUBLISH
X-WR-CALNAME:Olimpo 2 - Terme &amp; Privè Club | Centro spa trasgressivo Avellino
X-ORIGINAL-URL:https://www.olimpo2.it
X-WR-CALDESC:Eventi per Olimpo 2 - Terme &amp; Privè Club | Centro spa trasgressivo Avellino
REFRESH-INTERVAL;VALUE=DURATION:PT1H
X-Robots-Tag:noindex
X-PUBLISHED-TTL:PT1H
BEGIN:VTIMEZONE
TZID:UTC
BEGIN:STANDARD
TZOFFSETFROM:+0000
TZOFFSETTO:+0000
TZNAME:UTC
DTSTART:20250101T000000
END:STANDARD
END:VTIMEZONE
BEGIN:VEVENT
DTSTART;TZID=UTC:20260404T153000
DTEND;TZID=UTC:20260405T050000
DTSTAMP:20260421T162335
CREATED:20260326T160058Z
LAST-MODIFIED:20260326T160058Z
UID:6042-1775316600-1775365200@www.olimpo2.it
SUMMARY:MUOVITI! MUOVITI! MUOVITI!
DESCRIPTION:Sabato 4 aprile 2026 \nSPA WELLNESS DALLE 15.30 ALLE 20.30. PARTY DALLE 21.30 ALLE 5.00 \nQuesta notte\, il corpo diventa il tuo strumento di piacere. “Muoviti! Muoviti! Muoviti!” è la serata che celebra il movimento come linguaggio della seduzione: ogni gesto\, ogni ritmo\, ogni vibrazione diventa un invito irresistibile. Lascia che la musica guidi il tuo corpo\, libera l’energia che porti dentro e scopri quanto può essere trasgressivo semplicemente muoversi. Vieni a ballare\, a sudare\, a desiderare: questa è la notte in cui il tuo corpo parla più forte di qualsiasi parola.\nSPA Wellness dalle 15.30 alle 20.30. Party dalle 21.30.\nArt director Nick Paino\, Club Hosts Parthenope e Ulisse\, Sensual Voice Crazy Love\, Eros DJ\, Swinger Dance e Sexy Animation.\nIl nostro circolo privato garantisce un ambiente sicuro\, fondato sul rispetto della libertà e del consenso\, dove ogni socio può esplorare la propria sensualità in modo autentico. \nCOMUNICAZIONE RISERVATA AI SOCI \nAll’interno del circolo è attivo un servizio di security. Garantiamo la tua massima riservatezza. \nPer informazioni chiamaci al 327 3560315 (anche via WhatsApp) \nSEGUI GLI EVENTI SUL NOSTRO CANALE TELEGRAM E ISCRIVITI ALLA NOSTRA NEWSLETTER DALLA HOME PAGE DEL SITO OLIMPO2.IT:\nhttps://t.me/Olimpo2Avellino/241 \nCHATTA CON NOI SU TELEGRAM:\nhttps://web.telegram.org/a/#1190578739 \nCi trovi anche su Annunci69\, Spicy Match\, IOL\, Facebook\, Youtube\, Instagram.
URL:https://www.olimpo2.it/evento/muoviti-muoviti-muoviti-4-aprile-2026/
LOCATION:Olimpo 2\, Contrada Via Fratte snc zona Pip. Avellino\, Forino\, AV\, 83020\, Italia
CATEGORIES:Sabato
ATTACH;FMTTYPE=image/png:https://www.olimpo2.it/wp-content/uploads/2026/03/02-4-aprile-2026.png
END:VEVENT
END:VCALENDAR