BEGIN:VCALENDAR
VERSION:2.0
PRODID:-//Olimpo 2 - Terme &amp; Privè Club | Centro spa trasgressivo Avellino - ECPv6.15.15//NONSGML v1.0//EN
CALSCALE:GREGORIAN
METHOD:PUBLISH
X-ORIGINAL-URL:https://www.olimpo2.it
X-WR-CALDESC:Eventi per Olimpo 2 - Terme &amp; Privè Club | Centro spa trasgressivo Avellino
REFRESH-INTERVAL;VALUE=DURATION:PT1H
X-Robots-Tag:noindex
X-PUBLISHED-TTL:PT1H
BEGIN:VTIMEZONE
TZID:UTC
BEGIN:STANDARD
TZOFFSETFROM:+0000
TZOFFSETTO:+0000
TZNAME:UTC
DTSTART:20250101T000000
END:STANDARD
END:VTIMEZONE
BEGIN:VEVENT
DTSTART;TZID=UTC:20260410T153000
DTEND;TZID=UTC:20260411T050000
DTSTAMP:20260421T181838
CREATED:20260326T154952Z
LAST-MODIFIED:20260326T154952Z
UID:6036-1775835000-1775883600@www.olimpo2.it
SUMMARY:SEXY FRIDAY NIGHT
DESCRIPTION:Venerdì 10 aprile 2026 \nQuesta sera\, le luci della settimana si spengono per accendere quelle della passione. L’Olimpo 2 presenta l’ “Hot Friday Night”\, l’inizio perfetto del vostro fine settimana. L’aria è carica dell’energia e dell’attesa che solo il venerdì sa regalare. È il momento di lasciarsi alle spalle la routine\, di liberare le inibizioni e di immergersi in un’atmosfera dove tutto è pensato per la seduzione. Lasciatevi trasportare dalla musica e da un ambiente complice\, dove ogni sguardo è una promessa. Questa non è solo una festa\, è il rituale che consacra il weekend al piacere. Benvenuti dove la notte ha il sapore della libertà.\nSPA Wellness dalle 15.30 alle 20.30. Party dalle 21.30.\nArt director Nick Paino\, Club Hosts Parthenope e Ulisse\, Sensual Voice Crazy Love\, Eros DJ\, Swinger Dance e Sexy Animation.\nIl nostro circolo privato garantisce un ambiente sicuro\, fondato sul rispetto della libertà e del consenso\, dove ogni socio può esplorare la propria sensualità in modo autentico. \nCOMUNICAZIONE RISERVATA AI SOCI \nAll’interno del circolo è attivo un servizio di security. Garantiamo la tua massima riservatezza. \nPer informazioni chiamaci al 327 3560315 (anche via WhatsApp) \nSEGUI GLI EVENTI SUL NOSTRO CANALE TELEGRAM E ISCRIVITI ALLA NOSTRA NEWSLETTER DALLA HOME PAGE DEL SITO OLIMPO2.IT:\nhttps://t.me/Olimpo2Avellino/241 \nCHATTA CON NOI SU TELEGRAM:\nhttps://web.telegram.org/a/#1190578739 \nCi trovi anche su Annunci69\, Spicy Match\, IOL\, Facebook\, Youtube\, Instagram.
URL:https://www.olimpo2.it/evento/sexy-friday-night-10-aprile-2026/
LOCATION:Olimpo 2\, Contrada Via Fratte snc zona Pip. Avellino\, Forino\, AV\, 83020\, Italia
CATEGORIES:Venerdì
ATTACH;FMTTYPE=image/png:https://www.olimpo2.it/wp-content/uploads/2026/03/04-10-aprile-2026.png
END:VEVENT
END:VCALENDAR