BEGIN:VCALENDAR
VERSION:2.0
PRODID:-//Olimpo 2 - Terme &amp; Privè Club | Centro spa trasgressivo Avellino - ECPv6.15.15//NONSGML v1.0//EN
CALSCALE:GREGORIAN
METHOD:PUBLISH
X-ORIGINAL-URL:https://www.olimpo2.it
X-WR-CALDESC:Eventi per Olimpo 2 - Terme &amp; Privè Club | Centro spa trasgressivo Avellino
REFRESH-INTERVAL;VALUE=DURATION:PT1H
X-Robots-Tag:noindex
X-PUBLISHED-TTL:PT1H
BEGIN:VTIMEZONE
TZID:UTC
BEGIN:STANDARD
TZOFFSETFROM:+0000
TZOFFSETTO:+0000
TZNAME:UTC
DTSTART:20210101T000000
END:STANDARD
END:VTIMEZONE
BEGIN:VEVENT
DTSTART;TZID=UTC:20240815T203000
DTEND;TZID=UTC:20240816T045900
DTSTAMP:20260421T132739
CREATED:20240803T081413Z
LAST-MODIFIED:20240803T082922Z
UID:4391-1723753800-1723784340@www.olimpo2.it
SUMMARY:FERRAGOSTO NAKED MOVEMENT
DESCRIPTION:Giovedì 15 agosto 2024 \nL’Olimpo 2 per una notte si trasformerà in un paradiso estivo\, con decorazioni minimaliste\, luci soffuse e dettagli audaci che creeranno un ambiente libertino di festa e trasgressione. Unitevi a noi per festeggiare un Ferragosto di passione. \n\n\n\n\n\n\n\n\n\n\n\n\n\n\n\n\n\n\n\n\n\n\n\n\n\n\n\n\nEvento riservato ai soci. \nAD AGOSTO SIAMO APERTI DAL MARTEDÌ ALLA DOMENICA DALLE ORE 10.00 E IL LUNEDÌ DALLE ORE 15.30. \nSarà impossibile mancare…chiamaci allo 0825 660018 o al 327 3560315 (anche via WhatsApp).
URL:https://www.olimpo2.it/evento/ferragosto-naked-movement-15-agosto-2024/
LOCATION:Olimpo 2\, Contrada Via Fratte snc zona Pip. Avellino\, Forino\, AV\, 83020\, Italia
CATEGORIES:Apertura Speciale,Giovedì
ATTACH;FMTTYPE=image/png:https://www.olimpo2.it/wp-content/uploads/2024/07/08-15-agosto-2024.png
END:VEVENT
BEGIN:VEVENT
DTSTART;TZID=UTC:20240815T100000
DTEND;TZID=UTC:20240815T200000
DTSTAMP:20260421T132739
CREATED:20240803T082841Z
LAST-MODIFIED:20240812T053943Z
UID:4411-1723716000-1723752000@www.olimpo2.it
SUMMARY:SCHIUMA PARTY NAKED
DESCRIPTION:Giovedì 15 agosto 2024 \nTuffatevi in un mare di schiuma e seduzione con il nostro “Schiuma Party Naked”\nPreparatevi a vivere un’esperienza unica e travolgente con la nostra esclusiva giornata in piscina\, che culminerà in un irresistibile schiuma party. Unitevi a noi per un evento che combina il piacere estivo con la seduzione\, in un’atmosfera di puro divertimento e trasgressione. \n\n\n\n\n\n\n\n\n\n\n\n\n\n\n\n\n\n\n\n\n\n\n\n\n\n\n\n\nEvento riservato ai soci. \nAD AGOSTO SIAMO APERTI DAL MARTEDÌ ALLA DOMENICA DALLE ORE 10.00 E IL LUNEDÌ DALLE ORE 15.30. \nSarà impossibile mancare…chiamaci allo 0825 660018 o al 327 3560315 (anche via WhatsApp).
URL:https://www.olimpo2.it/evento/schiuma-party-naked-15-agosto-2024/
LOCATION:Olimpo 2\, Contrada Via Fratte snc zona Pip. Avellino\, Forino\, AV\, 83020\, Italia
CATEGORIES:Apertura Speciale,Giovedì
ATTACH;FMTTYPE=image/png:https://www.olimpo2.it/wp-content/uploads/2024/08/Eventi-Olimpo-2-agosto-2024-2.png
END:VEVENT
BEGIN:VEVENT
DTSTART;VALUE=DATE:20240814
DTEND;VALUE=DATE:20240816
DTSTAMP:20260421T132739
CREATED:20240803T081146Z
LAST-MODIFIED:20240803T081146Z
UID:4389-1723611600-1723697999@www.olimpo2.it
SUMMARY:SUMMER NIGHT
DESCRIPTION:Mercoledì 14 agosto 2024 \nUna notte di passione e divertimento estivo. Preparatevi a vivere un’esperienza unica e seducente con la nostra serata esclusiva “Summer Night”. Unitevi a noi per una notte che celebra l’estate\, combinando seduzione\, musica e divertimento in un’atmosfera calda e travolgente. \n\n\n\n\n\n\n\n\n\n\n\n\n\n\n\n\n\n\n\n\n\n\n\n\n\n\n\n\nEvento riservato ai soci. \nAD AGOSTO SIAMO APERTI DAL MARTEDÌ ALLA DOMENICA DALLE ORE 10.00 E IL LUNEDÌ DALLE ORE 15.30. \nSarà impossibile mancare…chiamaci allo 0825 660018 o al 327 3560315 (anche via WhatsApp).
URL:https://www.olimpo2.it/evento/summer-night-14-agosto-2024/
LOCATION:Olimpo 2\, Contrada Via Fratte snc zona Pip. Avellino\, Forino\, AV\, 83020\, Italia
CATEGORIES:Apertura Speciale,Mercoledì
ATTACH;FMTTYPE=image/png:https://www.olimpo2.it/wp-content/uploads/2024/07/07-14-agosto-2024.png
END:VEVENT
BEGIN:VEVENT
DTSTART;VALUE=DATE:20240430
DTEND;VALUE=DATE:20240502
DTSTAMP:20260421T132739
CREATED:20240323T215559Z
LAST-MODIFIED:20240323T215559Z
UID:4151-1714453200-1714539599@www.olimpo2.it
SUMMARY:LABOR DAY
DESCRIPTION:Apertura straordinaria per anticipare la Festa dei Lavoratori. Una notte travolgente e aggressiva. \nSIAMO APERTI DAL LUNEDÌ AL SABATO DALLE ORE 15.30 E LA DOMENICA DALLE ORE 10. \nEvento riservato ai soci. \nSarà impossibile mancare…chiamaci allo 0825 660018 o al 327 3560315 (anche via WhatsApp).
URL:https://www.olimpo2.it/evento/labor-day-30-aprile-2024/
LOCATION:Olimpo 2\, Contrada Via Fratte snc zona Pip. Avellino\, Forino\, AV\, 83020\, Italia
CATEGORIES:Apertura Speciale,Martedì
ATTACH;FMTTYPE=image/png:https://www.olimpo2.it/wp-content/uploads/2024/03/12-30-aprile-2024.png
END:VEVENT
BEGIN:VEVENT
DTSTART;VALUE=DATE:20240424
DTEND;VALUE=DATE:20240426
DTSTAMP:20260421T132739
CREATED:20240323T201902Z
LAST-MODIFIED:20240323T215720Z
UID:4149-1713934800-1714021199@www.olimpo2.it
SUMMARY:FREEDOM PARTY
DESCRIPTION:Apertura straordinaria per anticipare la Festa della Libertà. Trasgressione allo stato puro. \nSIAMO APERTI DAL LUNEDÌ AL SABATO DALLE ORE 15.30 E LA DOMENICA DALLE ORE 10. \nEvento riservato ai soci. \nSarà impossibile mancare…chiamaci allo 0825 660018 o al 327 3560315 (anche via WhatsApp).
URL:https://www.olimpo2.it/evento/freedom-party-24-aprile-2024/
LOCATION:Olimpo 2\, Contrada Via Fratte snc zona Pip. Avellino\, Forino\, AV\, 83020\, Italia
CATEGORIES:Apertura Speciale,Mercoledì
ATTACH;FMTTYPE=image/png:https://www.olimpo2.it/wp-content/uploads/2024/03/09-24-aprile-2024.png
END:VEVENT
BEGIN:VEVENT
DTSTART;VALUE=DATE:20231231
DTEND;VALUE=DATE:20240102
DTSTAMP:20260421T132739
CREATED:20231112T082956Z
LAST-MODIFIED:20231211T191114Z
UID:3871-1703998800-1704085199@www.olimpo2.it
SUMMARY:GATSBY
DESCRIPTION:L’Olimpo 2 è lieto di presentarvi la serata Gatsby: L’unico ed inimitabile capodanno trasgressivo del sud Italia! \nAffrettati e riserva subito il tuo tavolo\, oppure prenota la tua serata rivolgendoti al numero nei nostri contatti! \nPer visualizzare il menu\, clicca qui \nPRENOTAZIONE OBBLIGATORIA.  \nEvento riservato ai soci. \nSIAMO APERTI DAL LUNEDÌ AL SABATO DALLE ORE 15.30 E LA DOMENICA DALLE ORE 10. \nSarà impossibile mancare…chiamaci allo 0825 660018 o al 327 3560315 (anche via WhatsApp).
URL:https://www.olimpo2.it/evento/gatsby-capodanno-31-dicembre-2023/
LOCATION:Olimpo 2\, Contrada Via Fratte snc zona Pip. Avellino\, Forino\, AV\, 83020\, Italia
CATEGORIES:Apertura Speciale,Domenica
ATTACH;FMTTYPE=image/png:https://www.olimpo2.it/wp-content/uploads/2023/11/Capodanno-Gatsby-Olimpo-2-Avellino-1080x1350px.png
END:VEVENT
BEGIN:VEVENT
DTSTART;VALUE=DATE:20231225
DTEND;VALUE=DATE:20231227
DTSTAMP:20260421T132739
CREATED:20231126T165047Z
LAST-MODIFIED:20231126T165057Z
UID:3910-1703480400-1703566799@www.olimpo2.it
SUMMARY:ALL I WANT FOR XMAS IS...
DESCRIPTION:Il divertimento all’Olimpo non si ferma durante le feste! Scarta i regali con noi\, abbandonati a baci appassionati sotto il vischio e festeggia con noi in questa notte magica\, solo all’Olimpo Club! \nEvento riservato ai soci. \nSIAMO APERTI DAL LUNEDÌ AL SABATO DALLE ORE 15.30 E LA DOMENICA DALLE ORE 10. \nSarà impossibile mancare…chiamaci allo 0825 660018 o al 327 3560315 (anche via WhatsApp).
URL:https://www.olimpo2.it/evento/all-i-want-for-xmas-is-25-dicembre-2023/
LOCATION:Olimpo 2\, Contrada Via Fratte snc zona Pip. Avellino\, Forino\, AV\, 83020\, Italia
CATEGORIES:Apertura Speciale
ATTACH;FMTTYPE=image/png:https://www.olimpo2.it/wp-content/uploads/2023/11/10-25-dicembre-2025.png
END:VEVENT
BEGIN:VEVENT
DTSTART;VALUE=DATE:20231207
DTEND;VALUE=DATE:20231209
DTSTAMP:20260421T132739
CREATED:20231126T164253Z
LAST-MODIFIED:20231126T165153Z
UID:3901-1701925200-1702011599@www.olimpo2.it
SUMMARY:CINQUANTA SFUMATURE DI ROSSO
DESCRIPTION:La notte si tinge di rosso! Per questa notte all’Olimpo il protagonista sarà il colore della passione per eccellenza. Indossa qualcosa di rosso e lasciati stregare dalle atmosfere sensuali dell’Olimpo 2. \nSIAMO APERTI DAL LUNEDÌ AL SABATO DALLE ORE 15.30 E LA DOMENICA DALLE ORE 10. \nEvento riservato ai soci. \nSarà impossibile mancare…chiamaci allo 0825 660018 o al 327 3560315 (anche via WhatsApp).
URL:https://www.olimpo2.it/evento/cinquanta-sfumature-di-rosso-7-dicembre-2023/
LOCATION:Olimpo 2\, Contrada Via Fratte snc zona Pip. Avellino\, Forino\, AV\, 83020\, Italia
CATEGORIES:Apertura Speciale,Giovedì
ATTACH;FMTTYPE=image/png:https://www.olimpo2.it/wp-content/uploads/2023/11/03-7-dicembre-2023.png
END:VEVENT
BEGIN:VEVENT
DTSTART;VALUE=DATE:20231031
DTEND;VALUE=DATE:20231102
DTSTAMP:20260421T132739
CREATED:20231008T082645Z
LAST-MODIFIED:20231008T082645Z
UID:3828-1698728400-1698814799@www.olimpo2.it
SUMMARY:HALLOWEEN SWINGERS NIGHT
DESCRIPTION:All’Olimpo 2 una notte di Halloween all’insegna del mistero e del terrore! \nEvento riservato ai soci. \nSIAMO APERTI DAL LUNEDÌ AL SABATO DALLE ORE 15.30 E LA DOMENICA DALLE ORE 10. \nSarà impossibile mancare…chiamaci allo 0825 660018 o al 327 3560315 (anche via WhatsApp).
URL:https://www.olimpo2.it/evento/halloween-swingers-night-31-ottobre-2023/
LOCATION:Olimpo 2\, Contrada Via Fratte snc zona Pip. Avellino\, Forino\, AV\, 83020\, Italia
CATEGORIES:Apertura Speciale
ATTACH;FMTTYPE=image/jpeg:https://www.olimpo2.it/wp-content/uploads/2023/10/Olimpo-2-Halloween-Swingers-Night-31-ottobre-2023-1080x1350px.jpg
END:VEVENT
BEGIN:VEVENT
DTSTART;VALUE=DATE:20230815
DTEND;VALUE=DATE:20230817
DTSTAMP:20260421T132739
CREATED:20230718T153647Z
LAST-MODIFIED:20230730T070452Z
UID:3676-1692075600-1692161999@www.olimpo2.it
SUMMARY:FERRAGOSTO PARTY
DESCRIPTION:PISCINA E SPA APERTA DALLE 10 ALLE 21.\nNEL MESE DI AGOSTO SAREMO APERTI TUTTI I GIORNI DALLE ORE 10 FINO A TARDA NOTTE. \nSarà impossibile mancare…chiamaci allo 0825 660018 o al 327 3560315 (anche via WhatsApp).
URL:https://www.olimpo2.it/evento/ferragosto-party-15-agosto-2023/
LOCATION:Olimpo 2\, Contrada Via Fratte snc zona Pip. Avellino\, Forino\, AV\, 83020\, Italia
CATEGORIES:Apertura Speciale
ATTACH;FMTTYPE=image/png:https://www.olimpo2.it/wp-content/uploads/2023/07/15-agosto-2023.png
END:VEVENT
BEGIN:VEVENT
DTSTART;VALUE=DATE:20230814
DTEND;VALUE=DATE:20230816
DTSTAMP:20260421T132739
CREATED:20230718T153533Z
LAST-MODIFIED:20230730T070309Z
UID:3672-1691989200-1692075599@www.olimpo2.it
SUMMARY:CLUB PRIVÉ NOTTURNO
DESCRIPTION:DJ Set: Hilary \nPISCINA E SPA APERTA DALLE 10 ALLE 21.\nNEL MESE DI AGOSTO SAREMO APERTI TUTTI I GIORNI DALLE ORE 10 FINO A TARDA NOTTE. \nSarà impossibile mancare…chiamaci allo 0825 660018 o al 327 3560315 (anche via WhatsApp).
URL:https://www.olimpo2.it/evento/club-prive-notturno-14-agosto-2023/
LOCATION:Olimpo 2\, Contrada Via Fratte snc zona Pip. Avellino\, Forino\, AV\, 83020\, Italia
CATEGORIES:Apertura Speciale
ATTACH;FMTTYPE=image/png:https://www.olimpo2.it/wp-content/uploads/2023/07/05-14-agosto-2023.png
END:VEVENT
BEGIN:VEVENT
DTSTART;VALUE=DATE:20230601
DTEND;VALUE=DATE:20230603
DTSTAMP:20260421T132739
CREATED:20230525T054716Z
LAST-MODIFIED:20230525T054716Z
UID:3552-1685595600-1685681999@www.olimpo2.it
SUMMARY:SEX REPUBLIC
DESCRIPTION:APERTURA SPECIALE \nSexy Animation Contatto Agency\nVoice: Crazy Love\nArt Director: Nick Paino\nDJ Set: Hilary \nEvento riservato ai soci. \nSarà impossibile mancare…chiamaci allo 0825 660018 o al 327 3560315 (anche via WhatsApp).
URL:https://www.olimpo2.it/evento/sex-republic-1-giugno-2023/
LOCATION:Olimpo 2\, Contrada Via Fratte snc zona Pip. Avellino\, Forino\, AV\, 83020\, Italia
CATEGORIES:Apertura Speciale,Giovedì
ATTACH;FMTTYPE=image/png:https://www.olimpo2.it/wp-content/uploads/2023/05/01-1-giugno-2023.png
END:VEVENT
BEGIN:VEVENT
DTSTART;VALUE=DATE:20230430
DTEND;VALUE=DATE:20230502
DTSTAMP:20260421T132739
CREATED:20230413T111443Z
LAST-MODIFIED:20230413T111443Z
UID:3507-1682830800-1682917199@www.olimpo2.it
SUMMARY:WE DON'T WORK PARTY
DESCRIPTION:Sexy Animation Contatto Agency\nVoice: Crazy Love\nArt Director: Nick Paino\nDJ Set: Hilary & DJ Raf \nEvento riservato ai soci. \nSarà impossibile mancare…chiamaci allo 0825 660018 o al 327 3560315 (anche via WhatsApp).
URL:https://www.olimpo2.it/evento/we-dont-work-party-30-aprile-2023/
LOCATION:Olimpo 2\, Contrada Via Fratte snc zona Pip. Avellino\, Forino\, AV\, 83020\, Italia
CATEGORIES:Apertura Speciale,Domenica
ATTACH;FMTTYPE=image/png:https://www.olimpo2.it/wp-content/uploads/2023/04/11-30-aprile-2023.png
END:VEVENT
BEGIN:VEVENT
DTSTART;VALUE=DATE:20230424
DTEND;VALUE=DATE:20230426
DTSTAMP:20260421T132739
CREATED:20230413T111221Z
LAST-MODIFIED:20230413T111221Z
UID:3503-1682312400-1682398799@www.olimpo2.it
SUMMARY:LIBERTY NIGHT
DESCRIPTION:Sexy Animation Contatto Agency\nVoice: Crazy Love\nArt Director: Nick Paino\nDJ Set: Hilary & DJ Raf \nEvento riservato ai soci. \nSarà impossibile mancare…chiamaci allo 0825 660018 o al 327 3560315 (anche via WhatsApp).
URL:https://www.olimpo2.it/evento/liberty-night-24-aprile-2023/
LOCATION:Olimpo 2\, Contrada Via Fratte snc zona Pip. Avellino\, Forino\, AV\, 83020\, Italia
CATEGORIES:Apertura Speciale
ATTACH;FMTTYPE=image/png:https://www.olimpo2.it/wp-content/uploads/2023/04/08bis-24-aprile-2022.png
END:VEVENT
BEGIN:VEVENT
DTSTART;VALUE=DATE:20230410
DTEND;VALUE=DATE:20230412
DTSTAMP:20260421T132739
CREATED:20230403T193415Z
LAST-MODIFIED:20230403T193415Z
UID:3494-1681102800-1681189199@www.olimpo2.it
SUMMARY:PASQUETTA PARTY
DESCRIPTION:Lunedì la SPA sarà aperta dalle 10 con pranzo di Pasquetta. \nEvento riservato ai soci. \nSarà impossibile mancare…chiamaci allo 0825 660018 o al 327 3560315 (anche via WhatsApp).
URL:https://www.olimpo2.it/evento/pasquetta-party-10-aprile-2023/
LOCATION:Olimpo 2\, Contrada Via Fratte snc zona Pip. Avellino\, Forino\, AV\, 83020\, Italia
CATEGORIES:Apertura Speciale,Domenica
ATTACH;FMTTYPE=image/png:https://www.olimpo2.it/wp-content/uploads/2023/04/04ter-10-aprile-2023.png
END:VEVENT
BEGIN:VEVENT
DTSTART;VALUE=DATE:20230409
DTEND;VALUE=DATE:20230411
DTSTAMP:20260421T132739
CREATED:20230403T193113Z
LAST-MODIFIED:20230404T054422Z
UID:3489-1681016400-1681102799@www.olimpo2.it
SUMMARY:EASTER SPA PARTY
DESCRIPTION:Vieni a passare la tua Pasqua all’Olimpo 2. \nSPA APERTA DALLE 15.30 FINO A TARDI \nEvento riservato ai soci. \nSarà impossibile mancare…chiamaci allo 0825 660018 o al 327 3560315 (anche via WhatsApp).
URL:https://www.olimpo2.it/evento/easter-spa-party-9-aprile-2023/
LOCATION:Olimpo 2\, Contrada Via Fratte snc zona Pip. Avellino\, Forino\, AV\, 83020\, Italia
CATEGORIES:Apertura Speciale,Domenica
ATTACH;FMTTYPE=image/png:https://www.olimpo2.it/wp-content/uploads/2023/04/04bbis-9-aprile-2023.png
END:VEVENT
BEGIN:VEVENT
DTSTART;VALUE=DATE:20221231
DTEND;VALUE=DATE:20230102
DTSTAMP:20260421T132739
CREATED:20221120T125519Z
LAST-MODIFIED:20221222T170837Z
UID:3320-1672462800-1672549199@www.olimpo2.it
SUMMARY:THE LAST NIGHT OF THE YEAR...WELCOME 2023
DESCRIPTION:Sexy Animation Contatto Agency\nVoice: Crazy Love\nArt Director: Nick Paino\nDJ Set: Hilary \nEvento riservato ai soci. \nSarà impossibile mancare…chiamaci allo 0825 660018 o al 327 3560315 (anche via WhatsApp).
URL:https://www.olimpo2.it/evento/the-last-night-of-the-year-welcome-2023-31-dicembre-2022/
LOCATION:Olimpo 2\, Contrada Via Fratte snc zona Pip. Avellino\, Forino\, AV\, 83020\, Italia
CATEGORIES:Apertura Speciale,Sabato
ATTACH;FMTTYPE=image/png:https://www.olimpo2.it/wp-content/uploads/2022/11/11-31-dicembre-2022.png
END:VEVENT
BEGIN:VEVENT
DTSTART;VALUE=DATE:20221225
DTEND;VALUE=DATE:20221227
DTSTAMP:20260421T132739
CREATED:20221120T125256Z
LAST-MODIFIED:20221120T125319Z
UID:3318-1671944400-1672030799@www.olimpo2.it
SUMMARY:CHRISTMAS IN LOVE
DESCRIPTION:Sexy Animation Contatto Agency\nVoice: Crazy Love\nArt Director: Nick Paino\nDJ Set: Hilary \nEvento riservato ai soci. \nSarà impossibile mancare…chiamaci allo 0825 660018 o al 327 3560315 (anche via WhatsApp).
URL:https://www.olimpo2.it/evento/christmas-in-love-25-dicembre-2022/
LOCATION:Olimpo 2\, Contrada Via Fratte snc zona Pip. Avellino\, Forino\, AV\, 83020\, Italia
CATEGORIES:Apertura Speciale,Domenica
ATTACH;FMTTYPE=image/png:https://www.olimpo2.it/wp-content/uploads/2022/11/09-25-dicembre-2022.png
END:VEVENT
BEGIN:VEVENT
DTSTART;VALUE=DATE:20221207
DTEND;VALUE=DATE:20221209
DTSTAMP:20260421T132739
CREATED:20221118T065238Z
LAST-MODIFIED:20221118T065238Z
UID:3285-1670389200-1670475599@www.olimpo2.it
SUMMARY:TOO MUCH IOL PARTY
DESCRIPTION:Sexy Animation Contatto Agency\nVoice: Crazy Love\nArt Director: Nick Paino\nDJ Set: Hilary \nIOL PARTY \nEvento riservato ai soci. \nSarà impossibile mancare…chiamaci allo 0825 660018 o al 327 3560315 (anche via WhatsApp).
URL:https://www.olimpo2.it/evento/too-much-iol-party-7-dicembre-2022/
LOCATION:Olimpo 2\, Contrada Via Fratte snc zona Pip. Avellino\, Forino\, AV\, 83020\, Italia
CATEGORIES:Apertura Speciale,Mercoledì
ATTACH;FMTTYPE=image/png:https://www.olimpo2.it/wp-content/uploads/2022/11/7-dicembre-2022-Too-Much-Iol-Party-Olimpo-2-Avellino.png
END:VEVENT
BEGIN:VEVENT
DTSTART;VALUE=DATE:20221031
DTEND;VALUE=DATE:20221102
DTSTAMP:20260421T132739
CREATED:20220928T085219Z
LAST-MODIFIED:20221002T073500Z
UID:3164-1667192400-1667278799@www.olimpo2.it
SUMMARY:HORROR HOUSE HALLOWEEN PARTY
DESCRIPTION:Sexy Animation Contatto Agency\nVoice: Crazy Love\nArt Director: Nick Paino\nDJ Set: Hilary \nEvento riservato ai soci. \nSarà impossibile mancare…chiamaci allo 0825 660018 o al 327 3560315 (anche via WhatsApp).
URL:https://www.olimpo2.it/evento/horror-house-halloween-party-31-ottobre-2022/
LOCATION:Olimpo 2\, Contrada Via Fratte snc zona Pip. Avellino\, Forino\, AV\, 83020\, Italia
CATEGORIES:Apertura Speciale
ATTACH;FMTTYPE=image/png:https://www.olimpo2.it/wp-content/uploads/2022/09/Eventi-Olimpo-2-ottobre-2022-1.png
END:VEVENT
BEGIN:VEVENT
DTSTART;VALUE=DATE:20220601
DTEND;VALUE=DATE:20220603
DTSTAMP:20260421T132739
CREATED:20220524T114552Z
LAST-MODIFIED:20220524T114709Z
UID:2879-1654059600-1654145999@www.olimpo2.it
SUMMARY:VIVA LAS VEGAS
DESCRIPTION:APERTURA SPECIALE OLIMPO 2 \nNO SERATA COPPIE\nSPA APERTA DALLE 15.30 ALLE 21\nDALLE 21.30 APERTURA PRIVÈ \nSexy Animation\nContatto Agency\nVoice: Crazy Love\nArt Director: Nick Paino\nDJ Set: Hilary \nEvento riservato ai soci. \nSarà impossibile mancare…chiamaci allo 0825 660018 o al 327 3560315 (anche via WhatsApp).
URL:https://www.olimpo2.it/evento/viva-las-vegas-1-giugno-2022/
LOCATION:Olimpo 2\, Contrada Via Fratte snc zona Pip. Avellino\, Forino\, AV\, 83020\, Italia
CATEGORIES:Apertura Speciale
ATTACH;FMTTYPE=image/png:https://www.olimpo2.it/wp-content/uploads/2022/05/01-1-giugno-2022.png
END:VEVENT
BEGIN:VEVENT
DTSTART;VALUE=DATE:20220424
DTEND;VALUE=DATE:20220426
DTSTAMP:20260421T132739
CREATED:20220403T053947Z
LAST-MODIFIED:20220403T054028Z
UID:2765-1650776400-1650862799@www.olimpo2.it
SUMMARY:LIBERTY NIGHT
DESCRIPTION:APERTURA SPECIALE OLIMPO 2 \nSexy Animation\nContatto Agency\nVoice: Crazy Love\nArt Director: Nick Paino\nDJ Set: Hilary \nEvento riservato ai soci. \nA seguito delle disposizioni di Pubblica Sicurezza sanitaria\, l’accesso all’Olimpo 2 è consentito solo ai soci possessori del “green pass rafforzato” (che si ottiene con la vaccinazione completa o con la guarigione dal Covid). \nSarà impossibile mancare…chiamaci allo 0825 660018 o al 327 3560315 (anche via WhatsApp).
URL:https://www.olimpo2.it/evento/liberty-night-24-aprile-2022/
LOCATION:Olimpo 2\, Contrada Via Fratte snc zona Pip. Avellino\, Forino\, AV\, 83020\, Italia
CATEGORIES:Apertura Speciale
ATTACH;FMTTYPE=image/png:https://www.olimpo2.it/wp-content/uploads/2022/04/08-bis-24-aprile-2022.png
END:VEVENT
BEGIN:VEVENT
DTSTART;VALUE=DATE:20220417
DTEND;VALUE=DATE:20220419
DTSTAMP:20260421T132739
CREATED:20220403T053830Z
LAST-MODIFIED:20220403T053830Z
UID:2761-1650171600-1650257999@www.olimpo2.it
SUMMARY:LOVE...SEX...CRAZY NIGHT
DESCRIPTION:APERTURA SPECIALE OLIMPO 2 \nSexy Animation\nContatto Agency\nVoice: Crazy Love\nArt Director: Nick Paino\nDJ Set: Hilary \nEvento riservato ai soci. \nA seguito delle disposizioni di Pubblica Sicurezza sanitaria\, l’accesso all’Olimpo 2 è consentito solo ai soci possessori del “green pass rafforzato” (che si ottiene con la vaccinazione completa o con la guarigione dal Covid). \nSarà impossibile mancare…chiamaci allo 0825 660018 o al 327 3560315 (anche via WhatsApp).
URL:https://www.olimpo2.it/evento/love-sex-crazy-night-17-aprile-2022/
LOCATION:Olimpo 2\, Contrada Via Fratte snc zona Pip. Avellino\, Forino\, AV\, 83020\, Italia
CATEGORIES:Apertura Speciale
ATTACH;FMTTYPE=image/png:https://www.olimpo2.it/wp-content/uploads/2022/04/06-bis-17-aprile-2022.png
END:VEVENT
END:VCALENDAR