BEGIN:VCALENDAR
VERSION:2.0
PRODID:-//Olimpo 2 - Terme &amp; Privè Club | Centro spa trasgressivo Avellino - ECPv6.15.15//NONSGML v1.0//EN
CALSCALE:GREGORIAN
METHOD:PUBLISH
X-WR-CALNAME:Olimpo 2 - Terme &amp; Privè Club | Centro spa trasgressivo Avellino
X-ORIGINAL-URL:https://www.olimpo2.it
X-WR-CALDESC:Eventi per Olimpo 2 - Terme &amp; Privè Club | Centro spa trasgressivo Avellino
REFRESH-INTERVAL;VALUE=DURATION:PT1H
X-Robots-Tag:noindex
X-PUBLISHED-TTL:PT1H
BEGIN:VTIMEZONE
TZID:UTC
BEGIN:STANDARD
TZOFFSETFROM:+0000
TZOFFSETTO:+0000
TZNAME:UTC
DTSTART:20240101T000000
END:STANDARD
END:VTIMEZONE
BEGIN:VEVENT
DTSTART;TZID=UTC:20251101T153000
DTEND;TZID=UTC:20251102T050000
DTSTAMP:20260420T073559
CREATED:20251021T081222Z
LAST-MODIFIED:20251021T081222Z
UID:5758-1762011000-1762059600@www.olimpo2.it
SUMMARY:SEXY SANTOS
DESCRIPTION:Sabato 1° novembre 2025 \nSPA WELLNESS DALLE 15.30 ALLE 20.30. PARTY DALLE 21.30 ALLE 5.00 \nQuesto sabato sera\, l’Olimpo 2 diventa il tempio di un culto ambiguo con “Sexy Santos – L’alba delle anime sante”. È una notte dedicata al risveglio della passione nascosta dietro l’apparenza della virtù. Assisteremo all’alba di una nuova consapevolezza\, dove le “anime sante” gettano la maschera dell’innocenza per rivelare la loro natura più terrena e seducente. L’aureola non è più un simbolo di purezza\, ma un cerchio di fuoco che accende il desiderio. Lasciatevi trasportare in un’atmosfera dove la devozione si confonde con la tentazione e l’estasi spirituale incontra quella carnale. Sarà un viaggio oltre il peccato e la redenzione\, per celebrare la sensualità che si risveglia quando cala la notte.\nSPA Wellness dalle 15.30 alle 20.30. Party dalle 21.30.\nSexy Animation a cura di: Art director Nick Paino\, Eros DJ\, Special Voice Crazy Love\, Club Hosts Parthenope e Ulisse.\nIl nostro circolo privato garantisce un ambiente sicuro\, fondato sul rispetto della libertà e del consenso\, dove ogni socio può esplorare la propria sensualità in modo autentico. \nCOMUNICAZIONE RISERVATA AI SOCI \nAll’interno del circolo è attivo un servizio di security. Garantiamo la tua massima riservatezza. \nPer informazioni chiamaci allo 0825 660018 o al 327 3560315 (anche via WhatsApp) \nSEGUI GLI EVENTI SUL NOSTRO CANALE TELEGRAM E ISCRIVITI ALLA NOSTRA NEWSLETTER DALLA HOME PAGE DEL SITO OLIMPO2.IT:\nhttps://t.me/Olimpo2Avellino/241 \nCHATTA CON NOI SU TELEGRAM:\nhttps://web.telegram.org/a/#1190578739 \nCi trovi anche su Annunci69\, Spicy Match\, IOL\, Facebook\, Youtube\, Instagram.
URL:https://www.olimpo2.it/evento/sexy-santos-1-novembre-2025/
LOCATION:Olimpo 2\, Contrada Via Fratte snc zona Pip. Avellino\, Forino\, AV\, 83020\, Italia
CATEGORIES:Sabato
ATTACH;FMTTYPE=image/png:https://www.olimpo2.it/wp-content/uploads/2025/10/01-1-novembre-2025.png
END:VEVENT
BEGIN:VEVENT
DTSTART;TZID=UTC:20251108T153000
DTEND;TZID=UTC:20251109T050000
DTSTAMP:20260420T073559
CREATED:20251022T064330Z
LAST-MODIFIED:20251022T064330Z
UID:5778-1762615800-1762664400@www.olimpo2.it
SUMMARY:WELCOME TO MIAMI
DESCRIPTION:Sabato 8 novembre 2025 \nSPA WELLNESS DALLE 15.30 ALLE 20.30. PARTY DALLE 21.30 ALLE 5.00 \nL’Olimpo 2 cambia latitudine e vi trasporta nel cuore pulsante della Florida. Benvenuti a “Welcome to Miami”\, la notte in cui l’atmosfera si fa bollente e le regole si sciolgono. L’aria è carica dell’energia elettrica di South Beach\, tra luci al neon che colorano la notte e ritmi latini che scaldano il sangue. È una serata per celebrare i corpi baciati dal sole\, il lusso e la trasgressione che solo una città come Miami sa ispirare. Questa notte\, il glamour è solo il preludio di un desiderio incontenibile. Lasciatevi sedurre da un vizio patinato e da una passione che non conosce alba. L’unica cosa che dovete fare è lasciarvi andare al caldo della notte.\nSPA Wellness dalle 15.30 alle 20.30. Party dalle 21.30.\nSexy Animation a cura di: Art director Nick Paino\, Eros DJ\, Special Voice Crazy Love\, Club Hosts Parthenope e Ulisse.\nIl nostro circolo privato garantisce un ambiente sicuro\, fondato sul rispetto della libertà e del consenso\, dove ogni socio può esplorare la propria sensualità in modo autentico. \nCOMUNICAZIONE RISERVATA AI SOCI \nAll’interno del circolo è attivo un servizio di security. Garantiamo la tua massima riservatezza. \nPer informazioni chiamaci allo 0825 660018 o al 327 3560315 (anche via WhatsApp) \nSEGUI GLI EVENTI SUL NOSTRO CANALE TELEGRAM E ISCRIVITI ALLA NOSTRA NEWSLETTER DALLA HOME PAGE DEL SITO OLIMPO2.IT:\nhttps://t.me/Olimpo2Avellino/241 \nCHATTA CON NOI SU TELEGRAM:\nhttps://web.telegram.org/a/#1190578739 \nCi trovi anche su Annunci69\, Spicy Match\, IOL\, Facebook\, Youtube\, Instagram.
URL:https://www.olimpo2.it/evento/welcome-to-miami-8-novembre-2025/
LOCATION:Olimpo 2\, Contrada Via Fratte snc zona Pip. Avellino\, Forino\, AV\, 83020\, Italia
CATEGORIES:Sabato
ATTACH;FMTTYPE=image/png:https://www.olimpo2.it/wp-content/uploads/2025/10/04-8-novembre-2025.png
END:VEVENT
BEGIN:VEVENT
DTSTART;TZID=UTC:20251115T153000
DTEND;TZID=UTC:20251116T050000
DTSTAMP:20260420T073559
CREATED:20251022T064532Z
LAST-MODIFIED:20251022T065030Z
UID:5780-1763220600-1763269200@www.olimpo2.it
SUMMARY:ADULTERYA
DESCRIPTION:Sabato 15 novembre 2025 \nSPA WELLNESS DALLE 15.30 ALLE 20.30. PARTY DALLE 21.30 ALLE 5.00 \nQuesta sera\, l’Olimpo 2 diventa il teatro del desiderio più inconfessabile. Benvenuti ad “Adulterya”\, una notte dedicata interamente al fascino del proibito e al brivido della tentazione. L’aria è elettrica\, carica di sguardi che si cercano di nascosto e di promesse sussurrate nell’ombra. È un invito a giocare con i confini della morale\, a esplorare quella zona grigia dove la passione sfida apertamente le regole imposte. Questa serata celebra il piacere clandestino\, il gusto inebriante del rischio e la seduzione irresistibile di ciò che appare irraggiungibile. Lasciatevi andare a un gioco di seduzione senza vincoli\, dove l’unica vera legge\, per una notte\, è quella dettata dal vostro istinto.\nSPA Wellness dalle 15.30 alle 20.30. Party dalle 21.30.\nSexy Animation a cura di: Art director Nick Paino\, Eros DJ\, Special Voice Crazy Love\, Club Hosts Parthenope e Ulisse.\nIl nostro circolo privato garantisce un ambiente sicuro\, fondato sul rispetto della libertà e del consenso\, dove ogni socio può esplorare la propria sensualità in modo autentico. \nCOMUNICAZIONE RISERVATA AI SOCI \nAll’interno del circolo è attivo un servizio di security. Garantiamo la tua massima riservatezza. \nPer informazioni chiamaci allo 0825 660018 o al 327 3560315 (anche via WhatsApp) \nSEGUI GLI EVENTI SUL NOSTRO CANALE TELEGRAM E ISCRIVITI ALLA NOSTRA NEWSLETTER DALLA HOME PAGE DEL SITO OLIMPO2.IT:\nhttps://t.me/Olimpo2Avellino/241 \nCHATTA CON NOI SU TELEGRAM:\nhttps://web.telegram.org/a/#1190578739 \nCi trovi anche su Annunci69\, Spicy Match\, IOL\, Facebook\, Youtube\, Instagram.
URL:https://www.olimpo2.it/evento/adulterya-15-novembre-2025/
LOCATION:Olimpo 2\, Contrada Via Fratte snc zona Pip. Avellino\, Forino\, AV\, 83020\, Italia
CATEGORIES:Sabato
ATTACH;FMTTYPE=image/png:https://www.olimpo2.it/wp-content/uploads/2025/10/07-15-novembre-2025.png
END:VEVENT
BEGIN:VEVENT
DTSTART;TZID=UTC:20251122T153000
DTEND;TZID=UTC:20251123T050000
DTSTAMP:20260420T073559
CREATED:20251022T064740Z
LAST-MODIFIED:20251022T064740Z
UID:5782-1763825400-1763874000@www.olimpo2.it
SUMMARY:EROTIC HOSPITAL
DESCRIPTION:Sabato 22 novembre 2025 \nSPA WELLNESS DALLE 15.30 ALLE 20.30. PARTY DALLE 21.30 ALLE 5.00 \nQuesta notte\, l’Olimpo 2 si trasforma in una clinica molto particolare. Benvenuti a “Erotic Hospital”\, il luogo dove i sintomi non sono malattie\, ma desideri in attesa di una diagnosi. Tra queste corsie\, rigorosi medici e infermiere seducenti praticano terapie non convenzionali. La febbre che circola è quella della passione\, e le prescrizioni sono studiate appositamente per i sensi. Non si tratta di guarire\, ma di abbandonarsi a trattamenti intensivi che risvegliano il corpo. Preparatevi per una visita approfondita. Questa sera\, l’unica cura di cui avrete bisogno è lasciarvi andare completamente nelle mani di chi sa come far salire il vostro battito.\nSPA Wellness dalle 15.30 alle 20.30. Party dalle 21.30.\nSexy Animation a cura di: Art director Nick Paino\, Eros DJ\, Special Voice Crazy Love\, Club Hosts Parthenope e Ulisse.\nIl nostro circolo privato garantisce un ambiente sicuro\, fondato sul rispetto della libertà e del consenso\, dove ogni socio può esplorare la propria sensualità in modo autentico. \nCOMUNICAZIONE RISERVATA AI SOCI \nAll’interno del circolo è attivo un servizio di security. Garantiamo la tua massima riservatezza. \nPer informazioni chiamaci allo 0825 660018 o al 327 3560315 (anche via WhatsApp) \nSEGUI GLI EVENTI SUL NOSTRO CANALE TELEGRAM E ISCRIVITI ALLA NOSTRA NEWSLETTER DALLA HOME PAGE DEL SITO OLIMPO2.IT:\nhttps://t.me/Olimpo2Avellino/241 \nCHATTA CON NOI SU TELEGRAM:\nhttps://web.telegram.org/a/#1190578739 \nCi trovi anche su Annunci69\, Spicy Match\, IOL\, Facebook\, Youtube\, Instagram.
URL:https://www.olimpo2.it/evento/erotic-hospital-22-novembre-2025/
LOCATION:Olimpo 2\, Contrada Via Fratte snc zona Pip. Avellino\, Forino\, AV\, 83020\, Italia
CATEGORIES:Sabato
ATTACH;FMTTYPE=image/png:https://www.olimpo2.it/wp-content/uploads/2025/10/10-22-novembre-2025.png
END:VEVENT
BEGIN:VEVENT
DTSTART;TZID=UTC:20251129T153000
DTEND;TZID=UTC:20251130T050000
DTSTAMP:20260420T073559
CREATED:20251022T064940Z
LAST-MODIFIED:20251022T064940Z
UID:5784-1764430200-1764478800@www.olimpo2.it
SUMMARY:OPEN YOUR MIND
DESCRIPTION:Sabato 29 novembre 2025 \nSPA WELLNESS DALLE 15.30 ALLE 20.30. PARTY DALLE 21.30 ALLE 5.00 \nQuesta sera\, l’Olimpo 2 vi invita a compiere un passo oltre i confini del consueto. Benvenuti a “Open Your Mind”\, la notte in cui la vera protagonista è la libertà. È un evento dedicato alla curiosità\, un invito a mettere da parte le certezze per abbracciare l’ignoto. L’atmosfera è complice\, pensata per permettere alla vostra fantasia di esplorare territori sensoriali inesplorati\, senza barriere e senza giudizi. La seduzione più autentica inizia da una mente aperta. Questa notte\, vi chiediamo solo di lasciarvi andare e di essere pronti a scoprire.\nSPA Wellness dalle 15.30 alle 20.30. Party dalle 21.30.\nSexy Animation a cura di: Art director Nick Paino\, Eros DJ\, Special Voice Crazy Love\, Club Hosts Parthenope e Ulisse.\nIl nostro circolo privato garantisce un ambiente sicuro\, fondato sul rispetto della libertà e del consenso\, dove ogni socio può esplorare la propria sensualità in modo autentico. \nCOMUNICAZIONE RISERVATA AI SOCI \nAll’interno del circolo è attivo un servizio di security. Garantiamo la tua massima riservatezza. \nPer informazioni chiamaci allo 0825 660018 o al 327 3560315 (anche via WhatsApp) \nSEGUI GLI EVENTI SUL NOSTRO CANALE TELEGRAM E ISCRIVITI ALLA NOSTRA NEWSLETTER DALLA HOME PAGE DEL SITO OLIMPO2.IT:\nhttps://t.me/Olimpo2Avellino/241 \nCHATTA CON NOI SU TELEGRAM:\nhttps://web.telegram.org/a/#1190578739 \nCi trovi anche su Annunci69\, Spicy Match\, IOL\, Facebook\, Youtube\, Instagram.
URL:https://www.olimpo2.it/evento/open-your-mind-29-novembre-2025/
LOCATION:Olimpo 2\, Contrada Via Fratte snc zona Pip. Avellino\, Forino\, AV\, 83020\, Italia
CATEGORIES:Sabato
ATTACH;FMTTYPE=image/png:https://www.olimpo2.it/wp-content/uploads/2025/10/13-29-novembre-2025.png
END:VEVENT
END:VCALENDAR