BEGIN:VCALENDAR
VERSION:2.0
PRODID:-//Olimpo 2 - Terme &amp; Privè Club | Centro spa trasgressivo Avellino - ECPv6.15.15//NONSGML v1.0//EN
CALSCALE:GREGORIAN
METHOD:PUBLISH
X-ORIGINAL-URL:https://www.olimpo2.it
X-WR-CALDESC:Eventi per Olimpo 2 - Terme &amp; Privè Club | Centro spa trasgressivo Avellino
REFRESH-INTERVAL;VALUE=DURATION:PT1H
X-Robots-Tag:noindex
X-PUBLISHED-TTL:PT1H
BEGIN:VTIMEZONE
TZID:UTC
BEGIN:STANDARD
TZOFFSETFROM:+0000
TZOFFSETTO:+0000
TZNAME:UTC
DTSTART:20250101T000000
END:STANDARD
END:VTIMEZONE
BEGIN:VEVENT
DTSTART;TZID=UTC:20260307T153000
DTEND;TZID=UTC:20260308T050000
DTSTAMP:20260420T030716
CREATED:20260206T095701Z
LAST-MODIFIED:20260206T095701Z
UID:6004-1772897400-1772946000@www.olimpo2.it
SUMMARY:SCANDALOUS SATURDAY
DESCRIPTION:Sabato 7 marzo 2026 \nSPA WELLNESS DALLE 15.30 ALLE 20.30. PARTY DALLE 21.30 ALLE 5.00 \nQuesto sabato\, l’Olimpo vi invita a stracciare il velo del pudore con lo Scandalous Saturday. Benvenuti nella notte dove il “troppo” non è mai abbastanza. Lo scandalo\, qui\, non è qualcosa da evitare\, ma un’arte da praticare con fierezza. Lasciate il bon ton fuori dalla porta e preparatevi a un vortice di provocazioni dove l’unica regola è far parlare di sé… o dei propri piaceri. In un mondo che giudica\, noi offriamo un santuario dove l’audacia viene premiata. Sguardi sfacciati\, outfit azzardati e desideri esibiti: questa sera siete autorizzati a scioccare\, sedurre e sovvertire ogni aspettativa. Siete pronti a diventare l’argomento proibito di ogni conversazione? Dateci un motivo per spettegolare.\nSPA Wellness dalle 15.30 alle 20.30. Party dalle 21.30.\nArt director Nick Paino\, Club Hosts Parthenope e Ulisse\, Sensual Voice Crazy Love\, Eros DJ\, Swinger Dance e Sexy Animation.\nIl nostro circolo privato garantisce un ambiente sicuro\, fondato sul rispetto della libertà e del consenso\, dove ogni socio può esplorare la propria sensualità in modo autentico. \nCOMUNICAZIONE RISERVATA AI SOCI \nAll’interno del circolo è attivo un servizio di security. Garantiamo la tua massima riservatezza. \nPer informazioni chiamaci al 327 3560315 (anche via WhatsApp) \nSEGUI GLI EVENTI SUL NOSTRO CANALE TELEGRAM E ISCRIVITI ALLA NOSTRA NEWSLETTER DALLA HOME PAGE DEL SITO OLIMPO2.IT:\nhttps://t.me/Olimpo2Avellino/241 \nCHATTA CON NOI SU TELEGRAM:\nhttps://web.telegram.org/a/#1190578739 \nCi trovi anche su Annunci69\, Spicy Match\, IOL\, Facebook\, Youtube\, Instagram.
URL:https://www.olimpo2.it/evento/scandalous-saturday-7-marzo-2026/
LOCATION:Olimpo 2\, Contrada Via Fratte snc zona Pip. Avellino\, Forino\, AV\, 83020\, Italia
CATEGORIES:Sabato
ATTACH;FMTTYPE=image/png:https://www.olimpo2.it/wp-content/uploads/2026/02/03-7-marzo-2026.png
END:VEVENT
BEGIN:VEVENT
DTSTART;TZID=UTC:20260314T153000
DTEND;TZID=UTC:20260315T050000
DTSTAMP:20260420T030716
CREATED:20260206T095909Z
LAST-MODIFIED:20260206T095909Z
UID:6006-1773502200-1773550800@www.olimpo2.it
SUMMARY:YOUR DESIRE
DESCRIPTION:Sabato 14 marzo 2026 \nSPA WELLNESS DALLE 15.30 ALLE 20.30. PARTY DALLE 21.30 ALLE 5.00 \nQuesto sabato\, l’Olimpo mette voi al centro dell’universo con la serata Your Desire. Che forma ha il vostro piacere? È un sussurro\, uno sguardo intenso o un tocco audace? Stasera non ci sono copioni da seguire: il club diventa una tela bianca pronta ad accogliere i colori delle vostre fantasie più intime. Questa notte è un invito a guardarsi dentro e a dare voce a ciò che spesso rimane inespresso. Non siamo qui per dirvi cosa desiderare\, ma per offrirvi lo spazio perfetto\, elegante e discreto\, per essere esattamente chi volete essere. Siete pronti a trasformare il pensiero in azione? Il desiderio siete voi. Venite a realizzarlo.\nSPA Wellness dalle 15.30 alle 20.30. Party dalle 21.30.\nArt director Nick Paino\, Club Hosts Parthenope e Ulisse\, Sensual Voice Crazy Love\, Eros DJ\, Swinger Dance e Sexy Animation.\nIl nostro circolo privato garantisce un ambiente sicuro\, fondato sul rispetto della libertà e del consenso\, dove ogni socio può esplorare la propria sensualità in modo autentico. \nCOMUNICAZIONE RISERVATA AI SOCI \nAll’interno del circolo è attivo un servizio di security. Garantiamo la tua massima riservatezza. \nPer informazioni chiamaci al 327 3560315 (anche via WhatsApp) \nSEGUI GLI EVENTI SUL NOSTRO CANALE TELEGRAM E ISCRIVITI ALLA NOSTRA NEWSLETTER DALLA HOME PAGE DEL SITO OLIMPO2.IT:\nhttps://t.me/Olimpo2Avellino/241 \nCHATTA CON NOI SU TELEGRAM:\nhttps://web.telegram.org/a/#1190578739 \nCi trovi anche su Annunci69\, Spicy Match\, IOL\, Facebook\, Youtube\, Instagram.
URL:https://www.olimpo2.it/evento/your-desire-14-marzo-2026/
LOCATION:Olimpo 2\, Contrada Via Fratte snc zona Pip. Avellino\, Forino\, AV\, 83020\, Italia
CATEGORIES:Sabato
ATTACH;FMTTYPE=image/png:https://www.olimpo2.it/wp-content/uploads/2026/02/06-14-marzo-2026.png
END:VEVENT
BEGIN:VEVENT
DTSTART;TZID=UTC:20260321T153000
DTEND;TZID=UTC:20260322T050000
DTSTAMP:20260420T030716
CREATED:20260206T100455Z
LAST-MODIFIED:20260206T100455Z
UID:6008-1774107000-1774155600@www.olimpo2.it
SUMMARY:BUNGA BUNGA NIGHT
DESCRIPTION:Sabato 21 marzo 2026 \nSPA WELLNESS DALLE 15.30 ALLE 20.30. PARTY DALLE 21.30 ALLE 5.00 \nQuesto sabato\, l’Olimpo vi invita alla festa più chiacchierata e controversa di sempre con il Bunga Bunga Night. Lasciatevi alle spalle il “politically correct”: questa notte celebriamo l’edonismo puro\, l’ironia e la voglia di divertirsi senza pensieri. Trasformeremo il club in un tempio del piacere sfrenato\, un luogo dove la realtà supera la fantasia tra atmosfere goliardiche e seduzione piccante. È un tributo alla “dolce vita” proibita\, dove i vizi diventano virtù e l’eccesso è l’unica misura accettata. Preparatevi a ritmi incalzanti e a un vortice di tentazioni\, perché stasera tutto è concesso. Ricordate: ciò che succede al Bunga Bunga\, rimane al Bunga Bunga.\nSPA Wellness dalle 15.30 alle 20.30. Party dalle 21.30.\nArt director Nick Paino\, Club Hosts Parthenope e Ulisse\, Sensual Voice Crazy Love\, Eros DJ\, Swinger Dance e Sexy Animation.\nIl nostro circolo privato garantisce un ambiente sicuro\, fondato sul rispetto della libertà e del consenso\, dove ogni socio può esplorare la propria sensualità in modo autentico. \nCOMUNICAZIONE RISERVATA AI SOCI \nAll’interno del circolo è attivo un servizio di security. Garantiamo la tua massima riservatezza. \nPer informazioni chiamaci al 327 3560315 (anche via WhatsApp) \nSEGUI GLI EVENTI SUL NOSTRO CANALE TELEGRAM E ISCRIVITI ALLA NOSTRA NEWSLETTER DALLA HOME PAGE DEL SITO OLIMPO2.IT:\nhttps://t.me/Olimpo2Avellino/241 \nCHATTA CON NOI SU TELEGRAM:\nhttps://web.telegram.org/a/#1190578739 \nCi trovi anche su Annunci69\, Spicy Match\, IOL\, Facebook\, Youtube\, Instagram.
URL:https://www.olimpo2.it/evento/bunga-bunga-night-21-marzo-2026/
LOCATION:Olimpo 2\, Contrada Via Fratte snc zona Pip. Avellino\, Forino\, AV\, 83020\, Italia
CATEGORIES:Sabato
ATTACH;FMTTYPE=image/png:https://www.olimpo2.it/wp-content/uploads/2026/02/09-21-marzo-2026.png
END:VEVENT
BEGIN:VEVENT
DTSTART;TZID=UTC:20260328T153000
DTEND;TZID=UTC:20260329T050000
DTSTAMP:20260420T030716
CREATED:20260206T100615Z
LAST-MODIFIED:20260225T090138Z
UID:6010-1774711800-1774760400@www.olimpo2.it
SUMMARY:SEX APPEAL
DESCRIPTION:Sabato 28 marzo 2026 \nSPA WELLNESS DALLE 15.30 ALLE 20.30. PARTY DALLE 21.30 ALLE 5.00 \nQuesto sabato\, l’Olimpo celebra l’ingrediente segreto della seduzione con la serata Sex Appeal. Non è solo questione di bellezza\, ma di quell’energia invisibile e magnetica che cattura l’attenzione e accende i sensi ancora prima di un tocco. È la notte del carisma puro\, dove la chimica tra i corpi diventa la protagonista assoluta. Vi invitiamo a giocare con il vostro fascino\, a esaltare i vostri punti di forza e a sprigionare quella sicurezza che rende irresistibili. Indossate ciò che vi fa sentire potenti e lasciate che sia il vostro magnetismo a parlare. Sguardi intensi\, movenze sinuose e un’attrazione fatale: siete pronti a scoprire quanto siete pericolosi?\nSPA Wellness dalle 15.30 alle 20.30. Party dalle 21.30.\nArt director Nick Paino\, Club Hosts Parthenope e Ulisse\, Sensual Voice Crazy Love\, Eros DJ\, Swinger Dance e Sexy Animation.\nIl nostro circolo privato garantisce un ambiente sicuro\, fondato sul rispetto della libertà e del consenso\, dove ogni socio può esplorare la propria sensualità in modo autentico. \nCOMUNICAZIONE RISERVATA AI SOCI \nAll’interno del circolo è attivo un servizio di security. Garantiamo la tua massima riservatezza. \nPer informazioni chiamaci al 327 3560315 (anche via WhatsApp) \nSEGUI GLI EVENTI SUL NOSTRO CANALE TELEGRAM E ISCRIVITI ALLA NOSTRA NEWSLETTER DALLA HOME PAGE DEL SITO OLIMPO2.IT:\nhttps://t.me/Olimpo2Avellino/241 \nCHATTA CON NOI SU TELEGRAM:\nhttps://web.telegram.org/a/#1190578739 \nCi trovi anche su Annunci69\, Spicy Match\, IOL\, Facebook\, Youtube\, Instagram.
URL:https://www.olimpo2.it/evento/sex-appeal-28-marzo-2026/
LOCATION:Olimpo 2\, Contrada Via Fratte snc zona Pip. Avellino\, Forino\, AV\, 83020\, Italia
CATEGORIES:Sabato
ATTACH;FMTTYPE=image/png:https://www.olimpo2.it/wp-content/uploads/2026/02/12-28-marzo-2026.png
END:VEVENT
BEGIN:VEVENT
DTSTART;TZID=UTC:20260404T153000
DTEND;TZID=UTC:20260405T050000
DTSTAMP:20260420T030716
CREATED:20260326T160058Z
LAST-MODIFIED:20260326T160058Z
UID:6042-1775316600-1775365200@www.olimpo2.it
SUMMARY:MUOVITI! MUOVITI! MUOVITI!
DESCRIPTION:Sabato 4 aprile 2026 \nSPA WELLNESS DALLE 15.30 ALLE 20.30. PARTY DALLE 21.30 ALLE 5.00 \nQuesta notte\, il corpo diventa il tuo strumento di piacere. “Muoviti! Muoviti! Muoviti!” è la serata che celebra il movimento come linguaggio della seduzione: ogni gesto\, ogni ritmo\, ogni vibrazione diventa un invito irresistibile. Lascia che la musica guidi il tuo corpo\, libera l’energia che porti dentro e scopri quanto può essere trasgressivo semplicemente muoversi. Vieni a ballare\, a sudare\, a desiderare: questa è la notte in cui il tuo corpo parla più forte di qualsiasi parola.\nSPA Wellness dalle 15.30 alle 20.30. Party dalle 21.30.\nArt director Nick Paino\, Club Hosts Parthenope e Ulisse\, Sensual Voice Crazy Love\, Eros DJ\, Swinger Dance e Sexy Animation.\nIl nostro circolo privato garantisce un ambiente sicuro\, fondato sul rispetto della libertà e del consenso\, dove ogni socio può esplorare la propria sensualità in modo autentico. \nCOMUNICAZIONE RISERVATA AI SOCI \nAll’interno del circolo è attivo un servizio di security. Garantiamo la tua massima riservatezza. \nPer informazioni chiamaci al 327 3560315 (anche via WhatsApp) \nSEGUI GLI EVENTI SUL NOSTRO CANALE TELEGRAM E ISCRIVITI ALLA NOSTRA NEWSLETTER DALLA HOME PAGE DEL SITO OLIMPO2.IT:\nhttps://t.me/Olimpo2Avellino/241 \nCHATTA CON NOI SU TELEGRAM:\nhttps://web.telegram.org/a/#1190578739 \nCi trovi anche su Annunci69\, Spicy Match\, IOL\, Facebook\, Youtube\, Instagram.
URL:https://www.olimpo2.it/evento/muoviti-muoviti-muoviti-4-aprile-2026/
LOCATION:Olimpo 2\, Contrada Via Fratte snc zona Pip. Avellino\, Forino\, AV\, 83020\, Italia
CATEGORIES:Sabato
ATTACH;FMTTYPE=image/png:https://www.olimpo2.it/wp-content/uploads/2026/03/02-4-aprile-2026.png
END:VEVENT
BEGIN:VEVENT
DTSTART;TZID=UTC:20260411T153000
DTEND;TZID=UTC:20260412T050000
DTSTAMP:20260420T030716
CREATED:20260326T160323Z
LAST-MODIFIED:20260326T160323Z
UID:6044-1775921400-1775970000@www.olimpo2.it
SUMMARY:COSÌ FAN TUTTE
DESCRIPTION:Sabato 11 aprile 2026 \nSPA WELLNESS DALLE 15.30 ALLE 20.30. PARTY DALLE 21.30 ALLE 5.00 \nLa notte in cui la natura umana si rivela in tutta la sua bellezza trasgressiva: il desiderio è universale\, il piacere non conosce eccezioni e la seduzione è l’arte più antica del mondo. Questa serata celebra la libertà di essere ciò che si è davvero\, senza maschere e senza pudori\, in un’atmosfera sofisticata e complice dove tutti\, prima o poi\, cedono al fascino dell’eros.\nSPA Wellness dalle 15.30 alle 20.30. Party dalle 21.30.\nArt director Nick Paino\, Club Hosts Parthenope e Ulisse\, Sensual Voice Crazy Love\, Eros DJ\, Swinger Dance e Sexy Animation.\nIl nostro circolo privato garantisce un ambiente sicuro\, fondato sul rispetto della libertà e del consenso\, dove ogni socio può esplorare la propria sensualità in modo autentico. \nCOMUNICAZIONE RISERVATA AI SOCI \nAll’interno del circolo è attivo un servizio di security. Garantiamo la tua massima riservatezza. \nPer informazioni chiamaci al 327 3560315 (anche via WhatsApp) \nSEGUI GLI EVENTI SUL NOSTRO CANALE TELEGRAM E ISCRIVITI ALLA NOSTRA NEWSLETTER DALLA HOME PAGE DEL SITO OLIMPO2.IT:\nhttps://t.me/Olimpo2Avellino/241 \nCHATTA CON NOI SU TELEGRAM:\nhttps://web.telegram.org/a/#1190578739 \nCi trovi anche su Annunci69\, Spicy Match\, IOL\, Facebook\, Youtube\, Instagram.
URL:https://www.olimpo2.it/evento/cosi-fan-tutte-11-aprile-2026/
LOCATION:Olimpo 2\, Contrada Via Fratte snc zona Pip. Avellino\, Forino\, AV\, 83020\, Italia
CATEGORIES:Sabato
ATTACH;FMTTYPE=image/png:https://www.olimpo2.it/wp-content/uploads/2026/03/05-11-aprile-2026.png
END:VEVENT
BEGIN:VEVENT
DTSTART;TZID=UTC:20260418T153000
DTEND;TZID=UTC:20260419T050000
DTSTAMP:20260420T030716
CREATED:20260326T160601Z
LAST-MODIFIED:20260326T160601Z
UID:6046-1776526200-1776574800@www.olimpo2.it
SUMMARY:VOYEUR
DESCRIPTION:Sabato 18 aprile 2026 \nSPA WELLNESS DALLE 15.30 ALLE 20.30. PARTY DALLE 21.30 ALLE 5.00 \nQuesta notte\, gli occhi sono il vostro strumento più potente. “Voyeur” è la serata dedicata al piacere dello sguardo\, all’arte di osservare e di essere osservati\, in un gioco di sguardi e complicità che accende la fantasia più profonda. L’Olimpo 2 diventa un teatro dell’eros dove ogni scena è pensata per stimolare la curiosità e il desiderio. Preparatevi a guardare\, ad essere visti e a scoprire quanto sia eccitante il confine tra pubblico e privato.\nSPA Wellness dalle 15.30 alle 20.30. Party dalle 21.30.\nArt director Nick Paino\, Club Hosts Parthenope e Ulisse\, Sensual Voice Crazy Love\, Eros DJ\, Swinger Dance e Sexy Animation.\nIl nostro circolo privato garantisce un ambiente sicuro\, fondato sul rispetto della libertà e del consenso\, dove ogni socio può esplorare la propria sensualità in modo autentico. \nCOMUNICAZIONE RISERVATA AI SOCI \nAll’interno del circolo è attivo un servizio di security. Garantiamo la tua massima riservatezza. \nPer informazioni chiamaci al 327 3560315 (anche via WhatsApp) \nSEGUI GLI EVENTI SUL NOSTRO CANALE TELEGRAM E ISCRIVITI ALLA NOSTRA NEWSLETTER DALLA HOME PAGE DEL SITO OLIMPO2.IT:\nhttps://t.me/Olimpo2Avellino/241 \nCHATTA CON NOI SU TELEGRAM:\nhttps://web.telegram.org/a/#1190578739 \nCi trovi anche su Annunci69\, Spicy Match\, IOL\, Facebook\, Youtube\, Instagram.
URL:https://www.olimpo2.it/evento/voyeur-18-aprile-2025/
LOCATION:Olimpo 2\, Contrada Via Fratte snc zona Pip. Avellino\, Forino\, AV\, 83020\, Italia
CATEGORIES:Sabato
ATTACH;FMTTYPE=image/png:https://www.olimpo2.it/wp-content/uploads/2026/03/08-18-aprile-2026.png
END:VEVENT
BEGIN:VEVENT
DTSTART;TZID=UTC:20260425T153000
DTEND;TZID=UTC:20260426T050000
DTSTAMP:20260420T030716
CREATED:20260326T160745Z
LAST-MODIFIED:20260326T160745Z
UID:6048-1777131000-1777179600@www.olimpo2.it
SUMMARY:FREE SEX
DESCRIPTION:Sabato 25 aprile 2026 \nSPA WELLNESS DALLE 15.30 ALLE 20.30. PARTY DALLE 21.30 ALLE 5.00 \nIl 25 aprile celebriamo la libertà in tutte le sue forme\, e all’Olimpo 2 la libertà ha un solo nome: “Free Sex”. Questa notte è un manifesto della liberazione dei sensi\, un tributo al desiderio senza catene e al piacere senza confini. Nessuna regola se non quella del rispetto e del consenso: tutto il resto è permesso\, tutto il resto è possibile. Venite a celebrare la festa della libertà nel modo più autentico che esista.\nSPA Wellness dalle 15.30 alle 20.30. Party dalle 21.30.\nArt director Nick Paino\, Club Hosts Parthenope e Ulisse\, Sensual Voice Crazy Love\, Eros DJ\, Swinger Dance e Sexy Animation.\nIl nostro circolo privato garantisce un ambiente sicuro\, fondato sul rispetto della libertà e del consenso\, dove ogni socio può esplorare la propria sensualità in modo autentico. \nCOMUNICAZIONE RISERVATA AI SOCI \nAll’interno del circolo è attivo un servizio di security. Garantiamo la tua massima riservatezza. \nPer informazioni chiamaci al 327 3560315 (anche via WhatsApp) \nSEGUI GLI EVENTI SUL NOSTRO CANALE TELEGRAM E ISCRIVITI ALLA NOSTRA NEWSLETTER DALLA HOME PAGE DEL SITO OLIMPO2.IT:\nhttps://t.me/Olimpo2Avellino/241 \nCHATTA CON NOI SU TELEGRAM:\nhttps://web.telegram.org/a/#1190578739 \nCi trovi anche su Annunci69\, Spicy Match\, IOL\, Facebook\, Youtube\, Instagram.
URL:https://www.olimpo2.it/evento/free-sex-25-aprile-2026/
LOCATION:Olimpo 2\, Contrada Via Fratte snc zona Pip. Avellino\, Forino\, AV\, 83020\, Italia
CATEGORIES:Sabato
ATTACH;FMTTYPE=image/png:https://www.olimpo2.it/wp-content/uploads/2026/03/11-25-aprile-2026.png
END:VEVENT
END:VCALENDAR