BEGIN:VCALENDAR
VERSION:2.0
PRODID:-//Olimpo 2 - Terme &amp; Privè Club | Centro spa trasgressivo Avellino - ECPv6.15.15//NONSGML v1.0//EN
CALSCALE:GREGORIAN
METHOD:PUBLISH
X-WR-CALNAME:Olimpo 2 - Terme &amp; Privè Club | Centro spa trasgressivo Avellino
X-ORIGINAL-URL:https://www.olimpo2.it
X-WR-CALDESC:Eventi per Olimpo 2 - Terme &amp; Privè Club | Centro spa trasgressivo Avellino
REFRESH-INTERVAL;VALUE=DURATION:PT1H
X-Robots-Tag:noindex
X-PUBLISHED-TTL:PT1H
BEGIN:VTIMEZONE
TZID:UTC
BEGIN:STANDARD
TZOFFSETFROM:+0000
TZOFFSETTO:+0000
TZNAME:UTC
DTSTART:20230101T000000
END:STANDARD
END:VTIMEZONE
BEGIN:VEVENT
DTSTART;VALUE=DATE:20240228
DTEND;VALUE=DATE:20240301
DTSTAMP:20260419T203433
CREATED:20240222T091214Z
LAST-MODIFIED:20240223T093923Z
UID:4035-1709096400-1709182799@www.olimpo2.it
SUMMARY:WORKSHOP BONDAGE
DESCRIPTION:21.30 presso le Terme dell’Olimpo 2\nUn evento a cura di Master Cuoio e Candidonero\nAll’Olimpo 2 presentiamo un evento unico nel suo genere\, per iniziare ad esplorare una pratica sensuale e divertente: il bondage.\nL’evento\, sotto forma di workshop\, ha come obiettivo di imparare le basi della pratica del bondage in maniera sicura\, evitando errori ed incidenti.\nIl workshop sarà costituito da tre fasi: una prima parte su sicurezza e preparazione\, una fase pratica in cui esploreremo il tipo di strumenti che si possono utilizzare per le legature\, e una terza fase sull’aftercare. \n\n\n\n\n\n\n\n\n\n\n\n\nEvento riservato ai soci. \nSIAMO APERTI DAL LUNEDÌ AL SABATO DALLE ORE 15.30 E LA DOMENICA DALLE ORE 10. \nSarà impossibile mancare…per informazioni chiamaci al 327 3560315 (anche via WhatsApp).
URL:https://www.olimpo2.it/evento/workshop-bondage-28-febbraio-2024/
LOCATION:Olimpo 2\, Contrada Via Fratte snc zona Pip. Avellino\, Forino\, AV\, 83020\, Italia
CATEGORIES:Mercoledì
ATTACH;FMTTYPE=image/png:https://www.olimpo2.it/wp-content/uploads/2024/02/09new-28-febbraio-2024.png
END:VEVENT
END:VCALENDAR