BEGIN:VCALENDAR
VERSION:2.0
PRODID:-//Olimpo 2 - Terme &amp; Privè Club | Centro spa trasgressivo Avellino - ECPv6.15.15//NONSGML v1.0//EN
CALSCALE:GREGORIAN
METHOD:PUBLISH
X-ORIGINAL-URL:https://www.olimpo2.it
X-WR-CALDESC:Eventi per Olimpo 2 - Terme &amp; Privè Club | Centro spa trasgressivo Avellino
REFRESH-INTERVAL;VALUE=DURATION:PT1H
X-Robots-Tag:noindex
X-PUBLISHED-TTL:PT1H
BEGIN:VTIMEZONE
TZID:UTC
BEGIN:STANDARD
TZOFFSETFROM:+0000
TZOFFSETTO:+0000
TZNAME:UTC
DTSTART:20220101T000000
END:STANDARD
END:VTIMEZONE
BEGIN:VEVENT
DTSTART;TZID=UTC:20251231T153000
DTEND;TZID=UTC:20260101T050000
DTSTAMP:20260420T072308
CREATED:20251123T090848Z
LAST-MODIFIED:20251123T090848Z
UID:5819-1767195000-1767243600@www.olimpo2.it
SUMMARY:HOT LAST NIGHT 2025-2026
DESCRIPTION:Mercoledì 31 dicembre 2025 \nSPA WELLNESS DALLE 15.30 ALLE 20.30. PARTY DALLE 21.30 ALLE 5.00 \nSalutiamo il 2025 e diamo il benvenuto al nuovo anno con l’evento più incandescente della stagione: Hot last night 2025/2026. La notte di San Silvestro all’Olimpo 2 sarà un lungo viaggio nel piacere\, che avrà inizio con un esclusivo cenone. Un percorso culinario raffinato\, studiato per deliziare il palato e accendere i sensi in attesa del conto alla rovescia. Allo scoccare della mezzanotte\, i brindisi lasceranno spazio a un veglione travolgente\, dove l’eleganza si fonde con la trasgressione per inaugurare il 2026 sotto il segno della passione sfrenata. Per vivere da protagonisti questa notte unica e garantire la qualità dell’esperienza\, la prenotazione è obbligatoria. Assicuratevi il vostro posto per l’inizio d’anno più caldo di sempre.\nSPA Wellness dalle 15.30 alle 20.30. Party dalle 21.30.\nSexy Animation a cura di: Art director Nick Paino\, Eros DJ\, Special Voice Crazy Love\, Club Hosts Parthenope e Ulisse.\nIl nostro circolo privato garantisce un ambiente sicuro\, fondato sul rispetto della libertà e del consenso\, dove ogni socio può esplorare la propria sensualità in modo autentico. \nCOMUNICAZIONE RISERVATA AI SOCI \nAll’interno del circolo è attivo un servizio di security. Garantiamo la tua massima riservatezza. \nPRENOTA ORA IL TUO TAVOLO allo 0825 660018 o al 327 3560315 (anche via WhatsApp) \nSEGUI GLI EVENTI SUL NOSTRO CANALE TELEGRAM E ISCRIVITI ALLA NOSTRA NEWSLETTER DALLA HOME PAGE DEL SITO OLIMPO2.IT:\nhttps://t.me/Olimpo2Avellino/241 \nCHATTA CON NOI SU TELEGRAM:\nhttps://web.telegram.org/a/#1190578739 \nCi trovi anche su Annunci69\, Spicy Match\, IOL\, Facebook\, Youtube\, Instagram.
URL:https://www.olimpo2.it/evento/hot-last-night-2025-2026-31-dicembre-2025/
LOCATION:Olimpo 2\, Contrada Via Fratte snc zona Pip. Avellino\, Forino\, AV\, 83020\, Italia
CATEGORIES:Mercoledì
ATTACH;FMTTYPE=image/png:https://www.olimpo2.it/wp-content/uploads/2025/11/14-31-dicembre-2025.png
END:VEVENT
BEGIN:VEVENT
DTSTART;VALUE=DATE:20231231
DTEND;VALUE=DATE:20240102
DTSTAMP:20260420T072308
CREATED:20231112T082956Z
LAST-MODIFIED:20231211T191114Z
UID:3871-1703998800-1704085199@www.olimpo2.it
SUMMARY:GATSBY
DESCRIPTION:L’Olimpo 2 è lieto di presentarvi la serata Gatsby: L’unico ed inimitabile capodanno trasgressivo del sud Italia! \nAffrettati e riserva subito il tuo tavolo\, oppure prenota la tua serata rivolgendoti al numero nei nostri contatti! \nPer visualizzare il menu\, clicca qui \nPRENOTAZIONE OBBLIGATORIA.  \nEvento riservato ai soci. \nSIAMO APERTI DAL LUNEDÌ AL SABATO DALLE ORE 15.30 E LA DOMENICA DALLE ORE 10. \nSarà impossibile mancare…chiamaci allo 0825 660018 o al 327 3560315 (anche via WhatsApp).
URL:https://www.olimpo2.it/evento/gatsby-capodanno-31-dicembre-2023/
LOCATION:Olimpo 2\, Contrada Via Fratte snc zona Pip. Avellino\, Forino\, AV\, 83020\, Italia
CATEGORIES:Apertura Speciale,Domenica
ATTACH;FMTTYPE=image/png:https://www.olimpo2.it/wp-content/uploads/2023/11/Capodanno-Gatsby-Olimpo-2-Avellino-1080x1350px.png
END:VEVENT
END:VCALENDAR