BEGIN:VCALENDAR
VERSION:2.0
PRODID:-//Olimpo 2 - Terme &amp; Privè Club | Centro spa trasgressivo Avellino - ECPv6.15.15//NONSGML v1.0//EN
CALSCALE:GREGORIAN
METHOD:PUBLISH
X-ORIGINAL-URL:https://www.olimpo2.it
X-WR-CALDESC:Eventi per Olimpo 2 - Terme &amp; Privè Club | Centro spa trasgressivo Avellino
REFRESH-INTERVAL;VALUE=DURATION:PT1H
X-Robots-Tag:noindex
X-PUBLISHED-TTL:PT1H
BEGIN:VTIMEZONE
TZID:UTC
BEGIN:STANDARD
TZOFFSETFROM:+0000
TZOFFSETTO:+0000
TZNAME:UTC
DTSTART:20240101T000000
END:STANDARD
END:VTIMEZONE
BEGIN:VEVENT
DTSTART;TZID=UTC:20251227T153000
DTEND;TZID=UTC:20251228T050000
DTSTAMP:20260420T220047
CREATED:20251203T151848Z
LAST-MODIFIED:20251203T151848Z
UID:5842-1766849400-1766898000@www.olimpo2.it
SUMMARY:CIRCUS DELICIUS
DESCRIPTION:Sabato 27 dicembre 2025 \nSPA WELLNESS DALLE 15.30 ALLE 20.30. PARTY DALLE 21.30 ALLE 5.00 \nSignore e signori\, benvenuti allo spettacolo più seducente del mondo. Questa sera\, il tendone dell’Olimpo 2 si apre per il “Circus Delicius”\, dove la meraviglia incontra la trasgressione. Preparatevi a entrare in una dimensione onirica e stravagante. Qui\, la pista centrale diventa il palcoscenico dei vostri desideri\, un luogo popolata da domatori di istinti e acrobati della passione pronti a sfidare le leggi della gravità e della morale. In questo circo non esistono spettatori innocenti e non c’è rete di protezione. È un invito a togliersi la maschera o a indossarne una nuova\, lasciandosi incantare dalla magia di una notte dove tutto è possibile. Che lo spettacolo abbia inizio.\nSPA Wellness dalle 15.30 alle 20.30. Party dalle 21.30.\nSexy Animation a cura di: Art director Nick Paino\, Eros DJ\, Special Voice Crazy Love\, Club Hosts Parthenope e Ulisse.\nIl nostro circolo privato garantisce un ambiente sicuro\, fondato sul rispetto della libertà e del consenso\, dove ogni socio può esplorare la propria sensualità in modo autentico. \nCOMUNICAZIONE RISERVATA AI SOCI \nAll’interno del circolo è attivo un servizio di security. Garantiamo la tua massima riservatezza. \nPer informazioni chiamaci allo 0825 660018 o al 327 3560315 (anche via WhatsApp) \nSEGUI GLI EVENTI SUL NOSTRO CANALE TELEGRAM E ISCRIVITI ALLA NOSTRA NEWSLETTER DALLA HOME PAGE DEL SITO OLIMPO2.IT:\nhttps://t.me/Olimpo2Avellino/241 \nCHATTA CON NOI SU TELEGRAM:\nhttps://web.telegram.org/a/#1190578739 \nCi trovi anche su Annunci69\, Spicy Match\, IOL\, Facebook\, Youtube\, Instagram.
URL:https://www.olimpo2.it/evento/circus-delicius-27-settembre-2025/
LOCATION:Olimpo 2\, Contrada Via Fratte snc zona Pip. Avellino\, Forino\, AV\, 83020\, Italia
CATEGORIES:Sabato
ATTACH;FMTTYPE=image/png:https://www.olimpo2.it/wp-content/uploads/2025/11/12-27-dicembre-2025.png
END:VEVENT
END:VCALENDAR