BEGIN:VCALENDAR
VERSION:2.0
PRODID:-//Olimpo 2 - Terme &amp; Privè Club | Centro spa trasgressivo Avellino - ECPv6.15.20//NONSGML v1.0//EN
CALSCALE:GREGORIAN
METHOD:PUBLISH
X-WR-CALNAME:Olimpo 2 - Terme &amp; Privè Club | Centro spa trasgressivo Avellino
X-ORIGINAL-URL:https://www.olimpo2.it
X-WR-CALDESC:Eventi per Olimpo 2 - Terme &amp; Privè Club | Centro spa trasgressivo Avellino
REFRESH-INTERVAL;VALUE=DURATION:PT1H
X-Robots-Tag:noindex
X-PUBLISHED-TTL:PT1H
BEGIN:VTIMEZONE
TZID:UTC
BEGIN:STANDARD
TZOFFSETFROM:+0000
TZOFFSETTO:+0000
TZNAME:UTC
DTSTART:20250101T000000
END:STANDARD
END:VTIMEZONE
BEGIN:VEVENT
DTSTART;TZID=UTC:20260110T153000
DTEND;TZID=UTC:20260111T050000
DTSTAMP:20260423T140732
CREATED:20251208T211034Z
LAST-MODIFIED:20251208T211034Z
UID:5882-1768059000-1768107600@www.olimpo2.it
SUMMARY:EROTIK GAME
DESCRIPTION:Sabato 10 gennaio 2026 \nSPA WELLNESS DALLE 15.30 ALLE 20.30. PARTY DALLE 21.30 ALLE 5.00 \nQuesta sera\, l’Olimpo trasforma la seduzione in una sfida avvincente con la serata Erotik Game. Preparatevi a entrare in un labirinto di tentazioni dove le regole esistono solo per rendere il gioco più eccitante. Sarete pedine mosse dal desiderio o abili strateghi della passione? L’atmosfera sarà ancora più elettrica perché festeggeremo una ricorrenza speciale: il compleanno della nostra DJ Hilary. Sarà lei\, dal cuore della console\, a dettare il ritmo della notte\, regalando una colonna sonora vibrante perfetta per accompagnare ogni vostra mossa. Mettetevi in gioco. Questa notte vincere significa lasciarsi andare.\nSPA Wellness dalle 15.30 alle 20.30. Party dalle 21.30.\nSexy Animation a cura di: Art director Nick Paino\, Eros DJ\, Special Voice Crazy Love\, Club Hosts Parthenope e Ulisse.\nIl nostro circolo privato garantisce un ambiente sicuro\, fondato sul rispetto della libertà e del consenso\, dove ogni socio può esplorare la propria sensualità in modo autentico. \nCOMUNICAZIONE RISERVATA AI SOCI \nAll’interno del circolo è attivo un servizio di security. Garantiamo la tua massima riservatezza. \nPer informazioni chiamaci allo 0825 660018 o al 327 3560315 (anche via WhatsApp) \nSEGUI GLI EVENTI SUL NOSTRO CANALE TELEGRAM E ISCRIVITI ALLA NOSTRA NEWSLETTER DALLA HOME PAGE DEL SITO OLIMPO2.IT:\nhttps://t.me/Olimpo2Avellino/241 \nCHATTA CON NOI SU TELEGRAM:\nhttps://web.telegram.org/a/#1190578739 \nCi trovi anche su Annunci69\, Spicy Match\, IOL\, Facebook\, Youtube\, Instagram.
URL:https://www.olimpo2.it/evento/erotik-game-10-gennaio-2026/
LOCATION:Olimpo 2\, Contrada Via Fratte snc zona Pip. Avellino\, Forino\, AV\, 83020\, Italia
CATEGORIES:Sabato
ATTACH;FMTTYPE=image/png:https://www.olimpo2.it/wp-content/uploads/2025/12/06-10-gennaio-2026.png
END:VEVENT
END:VCALENDAR