BEGIN:VCALENDAR
VERSION:2.0
PRODID:-//Olimpo 2 - Terme &amp; Privè Club | Centro spa trasgressivo Avellino - ECPv6.15.15//NONSGML v1.0//EN
CALSCALE:GREGORIAN
METHOD:PUBLISH
X-ORIGINAL-URL:https://www.olimpo2.it
X-WR-CALDESC:Eventi per Olimpo 2 - Terme &amp; Privè Club | Centro spa trasgressivo Avellino
REFRESH-INTERVAL;VALUE=DURATION:PT1H
X-Robots-Tag:noindex
X-PUBLISHED-TTL:PT1H
BEGIN:VTIMEZONE
TZID:UTC
BEGIN:STANDARD
TZOFFSETFROM:+0000
TZOFFSETTO:+0000
TZNAME:UTC
DTSTART:20210101T000000
END:STANDARD
END:VTIMEZONE
BEGIN:VEVENT
DTSTART;TZID=UTC:20250322T153000
DTEND;TZID=UTC:20250323T050000
DTSTAMP:20260420T023204
CREATED:20250217T060959Z
LAST-MODIFIED:20250217T060959Z
UID:5217-1742657400-1742706000@www.olimpo2.it
SUMMARY:FLOWER PARTY
DESCRIPTION:Sabato 22 marzo 2025 \nSPA WELLNESS DALLE 15.30 ALLE 20.30 \nPreparati a fiorire di sensualità! Unisciti a noi in un evento libertino dedicato alla rinascita e all’energia della primavera. Lasciati avvolgere dall’atmosfera frizzante e colorata della stagione\, dove ogni petalo è un invito al piacere e alla libertà. SPA Wellness dalle 15.30 alle 20.30. Sexy Animation a cura di: Art director Nick Paino\, DJ Eros DJ Hilary e DJ Raf\, Sensual Voice Crazy Love. Il nostro circolo privato garantisce un ambiente sicuro\, fondato sul rispetto della libertà e del consenso\, dove ogni socio può esplorare la propria sensualità in modo autentico. \nCOMUNICAZIONE RISERVATA AI SOCI \nAll’interno del circolo è attivo un servizio di security. Garantiamo la tua massima riservatezza. \nPer informazioni chiamaci allo 0825 660018 o al 327 3560315 (anche via WhatsApp) \nSEGUI GLI EVENTI SUL NOSTRO CANALE TELEGRAM E ISCRIVITI ALLA NOSTRA NEWSLETTER DALLA HOME PAGE DEL SITO OLIMPO2.IT:\nhttps://t.me/Olimpo2Avellino/241 \nCHATTA CON NOI SU TELEGRAM:\nhttps://web.telegram.org/a/#1190578739 \nCi trovi anche su Annunci69\, Spicy Match\, IOL\, Facebook\, Youtube\, Instagram.
URL:https://www.olimpo2.it/evento/flower-party-22-marzo-2025/
LOCATION:Olimpo 2\, Contrada Via Fratte snc zona Pip. Avellino\, Forino\, AV\, 83020\, Italia
CATEGORIES:Sabato
ATTACH;FMTTYPE=image/png:https://www.olimpo2.it/wp-content/uploads/2025/02/07-22-marzo-2025.png
END:VEVENT
BEGIN:VEVENT
DTSTART;VALUE=DATE:20220625
DTEND;VALUE=DATE:20220627
DTSTAMP:20260420T023204
CREATED:20220525T051114Z
LAST-MODIFIED:20220525T051237Z
UID:2915-1656133200-1656219599@www.olimpo2.it
SUMMARY:FLOWER PARTY
DESCRIPTION:Sexy Animation\nContatto Agency\nVoice: Crazy Love\nArt Director: Nick Paino\nDJ Set: Hilary \nEvento riservato ai soci. \nSarà impossibile mancare…chiamaci allo 0825 660018 o al 327 3560315 (anche via WhatsApp).
URL:https://www.olimpo2.it/evento/flower-party-25-giugno-2022/
LOCATION:Olimpo 2\, Contrada Via Fratte snc zona Pip. Avellino\, Forino\, AV\, 83020\, Italia
CATEGORIES:Sabato
ATTACH;FMTTYPE=image/png:https://www.olimpo2.it/wp-content/uploads/2022/05/09-25-giugno-2022.png
END:VEVENT
END:VCALENDAR