BEGIN:VCALENDAR
VERSION:2.0
PRODID:-//Olimpo 2 - Terme &amp; Privè Club | Centro spa trasgressivo Avellino - ECPv6.15.15//NONSGML v1.0//EN
CALSCALE:GREGORIAN
METHOD:PUBLISH
X-WR-CALNAME:Olimpo 2 - Terme &amp; Privè Club | Centro spa trasgressivo Avellino
X-ORIGINAL-URL:https://www.olimpo2.it
X-WR-CALDESC:Eventi per Olimpo 2 - Terme &amp; Privè Club | Centro spa trasgressivo Avellino
REFRESH-INTERVAL;VALUE=DURATION:PT1H
X-Robots-Tag:noindex
X-PUBLISHED-TTL:PT1H
BEGIN:VTIMEZONE
TZID:UTC
BEGIN:STANDARD
TZOFFSETFROM:+0000
TZOFFSETTO:+0000
TZNAME:UTC
DTSTART:20240101T000000
END:STANDARD
END:VTIMEZONE
BEGIN:VEVENT
DTSTART;TZID=UTC:20251205T153000
DTEND;TZID=UTC:20251206T050000
DTSTAMP:20260420T150707
CREATED:20251203T092921Z
LAST-MODIFIED:20251203T092921Z
UID:5825-1764948600-1764997200@www.olimpo2.it
SUMMARY:FREE LOVE
DESCRIPTION:Venerdì 5 dicembre 2025 \nQuesta sera\, l’Olimpo 2 abbraccia lo spirito più puro e rivoluzionario del desiderio con la serata Free Love. Dimenticate le etichette\, le gelosie e i confini imposti dalla società. Questa notte è un inno alla libertà assoluta di amare e di essere amati\, un ritorno a una connessione primordiale dove i corpi fluiscono senza ostacoli e senza barriere. L’atmosfera evoca la libertà di una rivoluzione sensuale\, dove l’unica regola è la condivisione del piacere. È un invito a spogliarsi non solo degli abiti\, ma anche dei pregiudizi\, per riscoprire la bellezza dell’incontro autentico e disinibito. Lasciatevi guidare solo dall’istinto e dall’attrazione. Benvenuti in un mondo dove l’amore non ha catene.\nSPA Wellness dalle 15.30 alle 20.30. Party dalle 21.30.\nSexy Animation a cura di: Art director Nick Paino\, Eros DJ\, Special Voice Crazy Love\, Club Hosts Parthenope e Ulisse.\nIl nostro circolo privato garantisce un ambiente sicuro\, fondato sul rispetto della libertà e del consenso\, dove ogni socio può esplorare la propria sensualità in modo autentico. \nCOMUNICAZIONE RISERVATA AI SOCI \nAll’interno del circolo è attivo un servizio di security. Garantiamo la tua massima riservatezza. \nPer informazioni chiamaci allo 0825 660018 o al 327 3560315 (anche via WhatsApp) \nSEGUI GLI EVENTI SUL NOSTRO CANALE TELEGRAM E ISCRIVITI ALLA NOSTRA NEWSLETTER DALLA HOME PAGE DEL SITO OLIMPO2.IT:\nhttps://t.me/Olimpo2Avellino/241 \nCHATTA CON NOI SU TELEGRAM:\nhttps://web.telegram.org/a/#1190578739 \nCi trovi anche su Annunci69\, Spicy Match\, IOL\, Facebook\, Youtube\, Instagram.
URL:https://www.olimpo2.it/evento/free-love-5-dicembre-2025/
LOCATION:Olimpo 2\, Contrada Via Fratte snc zona Pip. Avellino\, Forino\, AV\, 83020\, Italia
CATEGORIES:Venerdì
ATTACH;FMTTYPE=image/png:https://www.olimpo2.it/wp-content/uploads/2025/11/01-5-dicembre-2025.png
END:VEVENT
END:VCALENDAR