BEGIN:VCALENDAR
VERSION:2.0
PRODID:-//Olimpo 2 - Terme &amp; Privè Club | Centro spa trasgressivo Avellino - ECPv6.15.15//NONSGML v1.0//EN
CALSCALE:GREGORIAN
METHOD:PUBLISH
X-ORIGINAL-URL:https://www.olimpo2.it
X-WR-CALDESC:Eventi per Olimpo 2 - Terme &amp; Privè Club | Centro spa trasgressivo Avellino
REFRESH-INTERVAL;VALUE=DURATION:PT1H
X-Robots-Tag:noindex
X-PUBLISHED-TTL:PT1H
BEGIN:VTIMEZONE
TZID:UTC
BEGIN:STANDARD
TZOFFSETFROM:+0000
TZOFFSETTO:+0000
TZNAME:UTC
DTSTART:20240101T000000
END:STANDARD
END:VTIMEZONE
BEGIN:VEVENT
DTSTART;TZID=UTC:20250712T153000
DTEND;TZID=UTC:20250713T050000
DTSTAMP:20260420T085050
CREATED:20250621T063334Z
LAST-MODIFIED:20250621T063334Z
UID:5499-1752334200-1752382800@www.olimpo2.it
SUMMARY:I'M SEXY AND I KNOW IT
DESCRIPTION:Sabato 12 luglio 2025 \nSPA WELLNESS DALLE 10.00 ALLE 20.30. PARTY DALLE 21.30 ALLE 5.00 \nAll’Olimpo 2 arriva una serata dedicata all’orgoglio della sensualità femminile\, alla potenza seduttiva delle donne che sanno cosa vogliono… e come ottenerlo. È il momento di brillare\, di dominare la scena con uno sguardo\, un gesto\, un corpo che parla il linguaggio del desiderio. I’M SEXY AND I KNOW IT è un inno a tutte le donne che si sentono belle\, libere e audaci\, che non temono di essere osservate\, desiderate\, celebrate. SPA Wellness dalle 10.00 alle 20.30. Swinger Dance e Sexy Animation a cura di: Art director Nick Paino\, DJ Eros\, Sensual Voice Crazy Love. Il nostro circolo privato garantisce un ambiente sicuro\, fondato sul rispetto della libertà e del consenso\, dove ogni socio può esplorare la propria sensualità in modo autentico. All’interno del circolo è attivo un servizio di security. Garantiamo la tua massima riservatezza. \nCOMUNICAZIONE RISERVATA AI SOCI \nAll’interno del circolo è attivo un servizio di security. Garantiamo la tua massima riservatezza. \nPer informazioni chiamaci allo 0825 660018 o al 327 3560315 (anche via WhatsApp) \nSEGUI GLI EVENTI SUL NOSTRO CANALE TELEGRAM E ISCRIVITI ALLA NOSTRA NEWSLETTER DALLA HOME PAGE DEL SITO OLIMPO2.IT:\nhttps://t.me/Olimpo2Avellino/241 \nCHATTA CON NOI SU TELEGRAM:\nhttps://web.telegram.org/a/#1190578739 \nCi trovi anche su Annunci69\, Spicy Match\, IOL\, Facebook\, Youtube\, Instagram.
URL:https://www.olimpo2.it/evento/im-sexy-and-i-know-it-12-luglio-2025/
LOCATION:Olimpo 2\, Contrada Via Fratte snc zona Pip. Avellino\, Forino\, AV\, 83020\, Italia
CATEGORIES:Sabato
ATTACH;FMTTYPE=image/png:https://www.olimpo2.it/wp-content/uploads/2025/06/05-12-luglio-2025.png
END:VEVENT
END:VCALENDAR