BEGIN:VCALENDAR
VERSION:2.0
PRODID:-//Olimpo 2 - Terme &amp; Privè Club | Centro spa trasgressivo Avellino - ECPv6.15.15//NONSGML v1.0//EN
CALSCALE:GREGORIAN
METHOD:PUBLISH
X-WR-CALNAME:Olimpo 2 - Terme &amp; Privè Club | Centro spa trasgressivo Avellino
X-ORIGINAL-URL:https://www.olimpo2.it
X-WR-CALDESC:Eventi per Olimpo 2 - Terme &amp; Privè Club | Centro spa trasgressivo Avellino
REFRESH-INTERVAL;VALUE=DURATION:PT1H
X-Robots-Tag:noindex
X-PUBLISHED-TTL:PT1H
BEGIN:VTIMEZONE
TZID:UTC
BEGIN:STANDARD
TZOFFSETFROM:+0000
TZOFFSETTO:+0000
TZNAME:UTC
DTSTART:20230101T000000
END:STANDARD
END:VTIMEZONE
BEGIN:VEVENT
DTSTART;TZID=UTC:20240920T153000
DTEND;TZID=UTC:20240921T050000
DTSTAMP:20260419T202843
CREATED:20240909T102207Z
LAST-MODIFIED:20240910T045331Z
UID:4554-1726846200-1726894800@www.olimpo2.it
SUMMARY:SCAMBISTI E ANONIMATO: TRA SCELTA E NECESSITÀ
DESCRIPTION:Venerdì 20 settembre 2024 \n▶ SPA START 15.30 END 20.30\n▶ DISCO PRIVE’ START 21.30 END 05.00 FREE PASS PER TUTTE LE COPPIE \nAffronteremo l’argomento con Miss Baelish che\, per l’occasione\, ha invitato alla nostra tavola rotonda Lord Alkor\, scambista e performer. L’intervista verterà sui temi della sensibilità\, la privacy e la tutela di un mondo meraviglioso ma ancora poco sdoganato. La serata sarà aperta a tutti coloro che vorranno dare il loro contributo o fare domande agli ospiti. Promuoviamo un ambiente sicuro e rispettoso\, dove ogni socio può esplorare la propria sensualità in modo autentico e consensuale. (Per tutti coloro vogliano raggiungerci dopo le 21.00\, consigliamo di contattarci prima di accedere al Club).\nL’accesso wellness include l’utilizzo della piscina coperta\, scoperta\, sauna\, idromassaggio\, docce\, solarium esterno\, zona disco libertina\, room privé\, corner drink e food.\nTutti i soci riceveranno in dotazione telo bagno\, accappatoio e ciabattine.\nOlimpo 2 Avellino Terme il club unico ed esclusivo del sud Italia.\nNon fartelo raccontare\, vivilo!\nCOMUNICAZIONE RISERVATA AI SOCI\n✅ Garantiamo la massima sicurezza.\n🚫 Garantiamo la tua riservatezza.\n📱Per informazioni chiamaci al 3273560315 (anche via whatsapp)\n🌐 https://www.olimpo2.it/\n📍 via fratte ZONA P.I.P.\, Contrada\, Italy\n💟 Ci trovi anche su Annunci69\, Spicy Match\, IOL\, Facebook\, YouTube\, Instagram
URL:https://www.olimpo2.it/evento/scambisti-e-anonimato-tra-scelta-e-necessita-20-settembre-2024/
LOCATION:Olimpo 2\, Contrada Via Fratte snc zona Pip. Avellino\, Forino\, AV\, 83020\, Italia
CATEGORIES:Venerdì
ATTACH;FMTTYPE=image/jpeg:https://www.olimpo2.it/wp-content/uploads/2024/09/VENERDI-20-SETTEMBRE-SCAMBISTI-E-ANONIMATO-TOLK.jpg
END:VEVENT
END:VCALENDAR