BEGIN:VCALENDAR
VERSION:2.0
PRODID:-//Olimpo 2 - Terme &amp; Privè Club | Centro spa trasgressivo Avellino - ECPv6.15.15//NONSGML v1.0//EN
CALSCALE:GREGORIAN
METHOD:PUBLISH
X-ORIGINAL-URL:https://www.olimpo2.it
X-WR-CALDESC:Eventi per Olimpo 2 - Terme &amp; Privè Club | Centro spa trasgressivo Avellino
REFRESH-INTERVAL;VALUE=DURATION:PT1H
X-Robots-Tag:noindex
X-PUBLISHED-TTL:PT1H
BEGIN:VTIMEZONE
TZID:UTC
BEGIN:STANDARD
TZOFFSETFROM:+0000
TZOFFSETTO:+0000
TZNAME:UTC
DTSTART:20250101T000000
END:STANDARD
END:VTIMEZONE
BEGIN:VEVENT
DTSTART;TZID=UTC:20260131T153000
DTEND;TZID=UTC:20260201T050000
DTSTAMP:20260420T031709
CREATED:20251208T211604Z
LAST-MODIFIED:20260115T211745Z
UID:5888-1769873400-1769922000@www.olimpo2.it
SUMMARY:STRANGER NIGHT
DESCRIPTION:Sabato 31 gennaio 2026 \nSPA WELLNESS DALLE 15.30 ALLE 20.30. PARTY DALLE 21.30 ALLE 5.00 \nQuesta sera la notte vibra come una vecchia frequenza radio e la realtà si sdoppia. L’Olimpo2 presenta STRANGER NIGHT\, una serata sospesa tra luci al neon\, atmosfere anni ’80 e richiami dal Sottosopra\, dove nulla è come sembra. C’è un’energia elettrica nell’aria\, fatta di sguardi che si incrociano\, segnali silenziosi e connessioni improvvise\, come se qualcosa dall’altra parte stesse cercando di comunicare. È il momento di oltrepassare la superficie\, lasciare il mondo ordinario alle spalle e scendere dove il desiderio è più intenso e le regole cambiano. Non è solo una festa: è un passaggio\, un’esperienza\, una notte che appartiene a chi ha il coraggio di perdersi. Benvenuti nel Sottosopra del piacere!\nSPA Wellness dalle 15.30 alle 20.30. Party dalle 21.30.\nSexy Animation a cura di: Art director Nick Paino\, Eros DJ\, Special Voice Crazy Love\, Club Hosts Parthenope e Ulisse.\nIl nostro circolo privato garantisce un ambiente sicuro\, fondato sul rispetto della libertà e del consenso\, dove ogni socio può esplorare la propria sensualità in modo autentico. \nCOMUNICAZIONE RISERVATA AI SOCI \nAll’interno del circolo è attivo un servizio di security. Garantiamo la tua massima riservatezza. \nPer informazioni chiamaci allo 0825 660018 o al 327 3560315 (anche via WhatsApp) \nSEGUI GLI EVENTI SUL NOSTRO CANALE TELEGRAM E ISCRIVITI ALLA NOSTRA NEWSLETTER DALLA HOME PAGE DEL SITO OLIMPO2.IT:\nhttps://t.me/Olimpo2Avellino/241 \nCHATTA CON NOI SU TELEGRAM:\nhttps://web.telegram.org/a/#1190578739 \nCi trovi anche su Annunci69\, Spicy Match\, IOL\, Facebook\, Youtube\, Instagram.
URL:https://www.olimpo2.it/evento/stranger-night-31-gennaio-2026/
LOCATION:Olimpo 2\, Contrada Via Fratte snc zona Pip. Avellino\, Forino\, AV\, 83020\, Italia
CATEGORIES:Sabato
ATTACH;FMTTYPE=image/jpeg:https://www.olimpo2.it/wp-content/uploads/2025/12/15-31-gennaio-2026.jpg
END:VEVENT
END:VCALENDAR