BEGIN:VCALENDAR
VERSION:2.0
PRODID:-//Olimpo 2 - Terme &amp; Privè Club | Centro spa trasgressivo Avellino - ECPv6.15.15//NONSGML v1.0//EN
CALSCALE:GREGORIAN
METHOD:PUBLISH
X-ORIGINAL-URL:https://www.olimpo2.it
X-WR-CALDESC:Eventi per Olimpo 2 - Terme &amp; Privè Club | Centro spa trasgressivo Avellino
REFRESH-INTERVAL;VALUE=DURATION:PT1H
X-Robots-Tag:noindex
X-PUBLISHED-TTL:PT1H
BEGIN:VTIMEZONE
TZID:UTC
BEGIN:STANDARD
TZOFFSETFROM:+0000
TZOFFSETTO:+0000
TZNAME:UTC
DTSTART:20240101T000000
END:STANDARD
END:VTIMEZONE
BEGIN:VEVENT
DTSTART;TZID=UTC:20251207T170000
DTEND;TZID=UTC:20251208T030000
DTSTAMP:20260420T053636
CREATED:20251203T095527Z
LAST-MODIFIED:20251203T095527Z
UID:5828-1765126800-1765162800@www.olimpo2.it
SUMMARY:THIS IS THE PARTY
DESCRIPTION:Domenica 7 dicembre 2025 \nSPA WELLNESS DALLE 10.00 ALLE 1.00. NAKED HAPPY HOUR A PARTIRE DALLE 17.00 \nAlla vigilia della festa dell’Immacolata\, l’Olimpo 2 vi accoglie per “This is The Party”\, l’evento definitivo che dà ufficialmente il via alle notti di festa. Mentre il calendario celebra il candore\, noi vi invitiamo a esplorare l’esatto opposto. Questa è la notte in cui l’innocenza viene lasciata alla porta per fare spazio a un divertimento assoluto\, tutt’altro che casto. È l’occasione perfetta per inaugurare il ponte festivo con un’energia travolgente\, unendo l’eleganza alla voglia di pura trasgressione. Non cercate altrove\, perché la vera festa è qui. Preparatevi a dimenticare ogni virtù e a macchiare la vostra immacolatezza con il colore della passione.\nSPA Wellness dalle 10.00 alle 1.00. Naked Happy Hour dalle 17.00.\nSexy Animation a cura di: Art director Nick Paino\, Eros DJ\, Special Voice Crazy Love\, Club Hosts Parthenope e Ulisse.\nIl nostro circolo privato garantisce un ambiente sicuro\, fondato sul rispetto della libertà e del consenso\, dove ogni socio può esplorare la propria sensualità in modo autentico. \nCOMUNICAZIONE RISERVATA AI SOCI \nAll’interno del circolo è attivo un servizio di security. Garantiamo la tua massima riservatezza. \nPer informazioni chiamaci allo 0825 660018 o al 327 3560315 (anche via WhatsApp) \nSEGUI GLI EVENTI SUL NOSTRO CANALE TELEGRAM E ISCRIVITI ALLA NOSTRA NEWSLETTER DALLA HOME PAGE DEL SITO OLIMPO2.IT:\nhttps://t.me/Olimpo2Avellino/241 \nCHATTA CON NOI SU TELEGRAM:\nhttps://web.telegram.org/a/#1190578739 \nCi trovi anche su Annunci69\, Spicy Match\, IOL\, Facebook\, Youtube\, Instagram.
URL:https://www.olimpo2.it/evento/this-is-the-party-7-dicembre-2025/
LOCATION:Olimpo 2\, Contrada Via Fratte snc zona Pip. Avellino\, Forino\, AV\, 83020\, Italia
CATEGORIES:Domenica
ATTACH;FMTTYPE=image/png:https://www.olimpo2.it/wp-content/uploads/2025/11/03-7-dicembre-2025.png
END:VEVENT
END:VCALENDAR