BEGIN:VCALENDAR
VERSION:2.0
PRODID:-//Olimpo 2 - Terme &amp; Privè Club | Centro spa trasgressivo Avellino - ECPv6.15.15//NONSGML v1.0//EN
CALSCALE:GREGORIAN
METHOD:PUBLISH
X-WR-CALNAME:Olimpo 2 - Terme &amp; Privè Club | Centro spa trasgressivo Avellino
X-ORIGINAL-URL:https://www.olimpo2.it
X-WR-CALDESC:Eventi per Olimpo 2 - Terme &amp; Privè Club | Centro spa trasgressivo Avellino
REFRESH-INTERVAL;VALUE=DURATION:PT1H
X-Robots-Tag:noindex
X-PUBLISHED-TTL:PT1H
BEGIN:VTIMEZONE
TZID:UTC
BEGIN:STANDARD
TZOFFSETFROM:+0000
TZOFFSETTO:+0000
TZNAME:UTC
DTSTART:20230101T000000
END:STANDARD
END:VTIMEZONE
BEGIN:VEVENT
DTSTART;TZID=UTC:20241018T153000
DTEND;TZID=UTC:20241019T050000
DTSTAMP:20260421T182117
CREATED:20240928T145303Z
LAST-MODIFIED:20240928T145303Z
UID:4677-1729265400-1729314000@www.olimpo2.it
SUMMARY:THREE PLAYERS
DESCRIPTION:Venerdì 18 ottobre 2024 \n🗣👍Diventa socio o già socio potrai partecipare come\n▶ SPA START 15.30 END 20.30 “COPPIA CON UN MINIMO CONTRIBUTO”\n▶ DISCO PRIVE’ START 21.30 END 05.00 “COPPIA NESSUN CONTRIBUTO”.\nScoprite il fascino di un’avventura a tre in una notte dedicata alla scoperta e al piacere condiviso!\nUnitevi all’Olimpo 2 per un Ménage à Trois\, una serata esclusiva che celebra il piacere sofisticato e la complicità.\nNel cuore del nostro club\, trasformato per l’occasione in un rifugio di eleganza e seduzione\, sarete invitati a esplorare le dinamiche affascinanti di una delle fantasie più intriganti. Promuoviamo un ambiente sicuro e rispettoso\, dove ogni socio può esplorare la propria sensualità in modo autentico e consensuale.\nL’accesso wellness include l’utilizzo della piscina coperta\, scoperta\, sauna\, idromassaggio\, docce\, solarium esterno\, zona disco\, room privé\, corner drink e food.\nTutti i soci riceveranno in dotazione telo bagno\, accappatoio e ciabattine.\nOlimpo 2 Avellino Terme il club unico ed esclusivo del sud Italia.\nNon fartelo raccontare\, vivilo!\nCOMUNICAZIONE RISERVATA AI SOCI\n✅ Garantiamo la massima sicurezza.\n🚫 Garantiamo la tua riservatezza.\n📱Per informazioni chiamaci al 3273560315 (anche via whatsapp)\n🌐 https://www.olimpo2.it/\n📍 via fratte ZONA P.I.P.\, Contrada\, Italy\n💟 Ci trovi anche su Annunci69\, Spicy Match\, IOL\, Facebook\, YouTube\, Instagram
URL:https://www.olimpo2.it/evento/three-players-18-ottobre-2024/
LOCATION:Olimpo 2\, Contrada Via Fratte snc zona Pip. Avellino\, Forino\, AV\, 83020\, Italia
CATEGORIES:Venerdì
ATTACH;FMTTYPE=image/jpeg:https://www.olimpo2.it/wp-content/uploads/2024/09/VENERDI-18-OTTOBRE-THREE-PLAYERS.jpg
END:VEVENT
END:VCALENDAR