BEGIN:VCALENDAR
VERSION:2.0
PRODID:-//Olimpo 2 - Terme &amp; Privè Club | Centro spa trasgressivo Avellino - ECPv6.15.15//NONSGML v1.0//EN
CALSCALE:GREGORIAN
METHOD:PUBLISH
X-ORIGINAL-URL:https://www.olimpo2.it
X-WR-CALDESC:Eventi per Olimpo 2 - Terme &amp; Privè Club | Centro spa trasgressivo Avellino
REFRESH-INTERVAL;VALUE=DURATION:PT1H
X-Robots-Tag:noindex
X-PUBLISHED-TTL:PT1H
BEGIN:VTIMEZONE
TZID:UTC
BEGIN:STANDARD
TZOFFSETFROM:+0000
TZOFFSETTO:+0000
TZNAME:UTC
DTSTART:20240101T000000
END:STANDARD
END:VTIMEZONE
BEGIN:VEVENT
DTSTART;TZID=UTC:20250829T100000
DTEND;TZID=UTC:20250830T050000
DTSTAMP:20260420T023135
CREATED:20250725T161309Z
LAST-MODIFIED:20250725T161309Z
UID:5568-1756461600-1756530000@www.olimpo2.it
SUMMARY:THREESOME PARTY
DESCRIPTION:Venerdì 29 agosto 2025 \nTripla emozione\, doppio divertimento. Una serata audace e intrigante\, dove fantasia e realtà si incontrano in un gioco di seduzione a tre! Preparati a vivere un’esperienza unica in un’atmosfera elegante e trasgressiva\, pensata per chi ama esplorare e condividere momenti indimenticabili in totale libertà e rispetto. Esplora\, condividi e lasciati travolgere da un gioco di emozioni che non dimenticherai più. SPA Wellness dalle 10.00 alle 20.30. Swinger Dance e Sexy Animation a cura di: Art director Nick Paino\, DJ Eros\, Sensual Voice Crazy Love. Il nostro circolo privato garantisce un ambiente sicuro\, fondato sul rispetto della libertà e del consenso\, dove ogni socio può esplorare la propria sensualità in modo autentico. \nCOMUNICAZIONE RISERVATA AI SOCI \nAll’interno del circolo è attivo un servizio di security. Garantiamo la tua massima riservatezza. \nPer informazioni chiamaci allo 0825 660018 o al 327 3560315 (anche via WhatsApp) \nSEGUI GLI EVENTI SUL NOSTRO CANALE TELEGRAM E ISCRIVITI ALLA NOSTRA NEWSLETTER DALLA HOME PAGE DEL SITO OLIMPO2.IT:\nhttps://t.me/Olimpo2Avellino/241 \nCHATTA CON NOI SU TELEGRAM:\nhttps://web.telegram.org/a/#1190578739 \nCi trovi anche su Annunci69\, Spicy Match\, IOL\, Facebook\, Youtube\, Instagram.
URL:https://www.olimpo2.it/evento/threesome-party-29-agosto-2025/
LOCATION:Olimpo 2\, Contrada Via Fratte snc zona Pip. Avellino\, Forino\, AV\, 83020\, Italia
CATEGORIES:Venerdì
ATTACH;FMTTYPE=image/png:https://www.olimpo2.it/wp-content/uploads/2025/07/15-29-agosto-2025.png
END:VEVENT
BEGIN:VEVENT
DTSTART;TZID=UTC:20250711T153000
DTEND;TZID=UTC:20250712T050000
DTSTAMP:20260420T023135
CREATED:20250621T062436Z
LAST-MODIFIED:20250621T062436Z
UID:5490-1752247800-1752296400@www.olimpo2.it
SUMMARY:THREESOME PARTY
DESCRIPTION:Venerdì 11 luglio 2025 \nSPA WELLNESS DALLE 10.00 ALLE 20.30. PARTY DALLE 21.30 ALLE 5.00 \nTripla emozione\, doppio divertimento. Una serata audace e intrigante\, dove fantasia e realtà si incontrano in un gioco di seduzione a tre! Preparati a vivere un’esperienza unica in un’atmosfera elegante e trasgressiva\, pensata per chi ama esplorare e condividere momenti indimenticabili in totale libertà e rispetto. Esplora\, condividi e lasciati travolgere da un gioco di emozioni che non dimenticherai più. SPA Wellness dalle 10.00 alle 20.30. Swinger Dance e Sexy Animation a cura di: Art director Nick Paino\, DJ Eros\, Sensual Voice Crazy Love. Il nostro circolo privato garantisce un ambiente sicuro\, fondato sul rispetto della libertà e del consenso\, dove ogni socio può esplorare la propria sensualità in modo autentico. \nCOMUNICAZIONE RISERVATA AI SOCI \nAll’interno del circolo è attivo un servizio di security. Garantiamo la tua massima riservatezza. \nPer informazioni chiamaci allo 0825 660018 o al 327 3560315 (anche via WhatsApp) \nSEGUI GLI EVENTI SUL NOSTRO CANALE TELEGRAM E ISCRIVITI ALLA NOSTRA NEWSLETTER DALLA HOME PAGE DEL SITO OLIMPO2.IT:\nhttps://t.me/Olimpo2Avellino/241 \nCHATTA CON NOI SU TELEGRAM:\nhttps://web.telegram.org/a/#1190578739 \nCi trovi anche su Annunci69\, Spicy Match\, IOL\, Facebook\, Youtube\, Instagram.
URL:https://www.olimpo2.it/evento/threesome-party/
LOCATION:Olimpo 2\, Contrada Via Fratte snc zona Pip. Avellino\, Forino\, AV\, 83020\, Italia
CATEGORIES:Venerdì
ATTACH;FMTTYPE=image/png:https://www.olimpo2.it/wp-content/uploads/2025/06/04-11-luglio-2025-1.png
END:VEVENT
BEGIN:VEVENT
DTSTART;TZID=UTC:20250530T153000
DTEND;TZID=UTC:20250531T050000
DTSTAMP:20260420T023135
CREATED:20250421T195842Z
LAST-MODIFIED:20250421T195842Z
UID:5317-1748619000-1748667600@www.olimpo2.it
SUMMARY:THREESOME PARTY
DESCRIPTION:Venerdì 30 maggio 2025 \nSPA WELLNESS DALLE 15.30 ALLE 20.30 \nTripla emozione\, doppio divertimento. Una serata audace e intrigante\, dove fantasia e realtà si incontrano in un gioco di seduzione a tre! Preparati a vivere un’esperienza unica in un’atmosfera elegante e trasgressiva\, pensata per chi ama esplorare e condividere momenti indimenticabili in totale libertà e rispetto. Esplora\, condividi e lasciati travolgere da un gioco di emozioni che non dimenticherai più. SPA Wellness dalle 15.30 alle 20.30. Sexy Animation a cura di: Art director Nick Paino\, DJ Eros DJ Hilary e DJ Raf\, Sensual Voice Crazy Love. Il nostro circolo privato garantisce un ambiente sicuro\, fondato sul rispetto della libertà e del consenso\, dove ogni socio può esplorare la propria sensualità in modo autentico. \nCOMUNICAZIONE RISERVATA AI SOCI \nAll’interno del circolo è attivo un servizio di security. Garantiamo la tua massima riservatezza. \nPer informazioni chiamaci allo 0825 660018 o al 327 3560315 (anche via WhatsApp) \nSEGUI GLI EVENTI SUL NOSTRO CANALE TELEGRAM E ISCRIVITI ALLA NOSTRA NEWSLETTER DALLA HOME PAGE DEL SITO OLIMPO2.IT:\nhttps://t.me/Olimpo2Avellino/241 \nCHATTA CON NOI SU TELEGRAM:\nhttps://web.telegram.org/a/#1190578739 \nCi trovi anche su Annunci69\, Spicy Match\, IOL\, Facebook\, Youtube\, Instagram.
URL:https://www.olimpo2.it/evento/threesome-party-30-maggio-2025/
LOCATION:Olimpo 2\, Contrada Via Fratte snc zona Pip. Avellino\, Forino\, AV\, 83020\, Italia
CATEGORIES:Venerdì
ATTACH;FMTTYPE=image/png:https://www.olimpo2.it/wp-content/uploads/2025/04/09-30-maggio-2025.png
END:VEVENT
BEGIN:VEVENT
DTSTART;TZID=UTC:20250321T153000
DTEND;TZID=UTC:20250322T050000
DTSTAMP:20260420T023135
CREATED:20250217T062337Z
LAST-MODIFIED:20250217T062337Z
UID:5228-1742571000-1742619600@www.olimpo2.it
SUMMARY:THREESOME PARTY
DESCRIPTION:Venerdì 21 marzo 2025 \nSPA WELLNESS DALLE 15.30 ALLE 20.30 \nTripla emozione\, doppio divertimento. Una serata audace e intrigante\, dove fantasia e realtà si incontrano in un gioco di seduzione a tre! Preparati a vivere un’esperienza unica in un’atmosfera elegante e trasgressiva\, pensata per chi ama esplorare e condividere momenti indimenticabili in totale libertà e rispetto. Esplora\, condividi e lasciati travolgere da un gioco di emozioni che non dimenticherai più. SPA Wellness dalle 15.30 alle 20.30. Sexy Animation a cura di: Art director Nick Paino\, DJ Eros DJ Hilary e DJ Raf\, Sensual Voice Crazy Love. Il nostro circolo privato garantisce un ambiente sicuro\, fondato sul rispetto della libertà e del consenso\, dove ogni socio può esplorare la propria sensualità in modo autentico. \nCOMUNICAZIONE RISERVATA AI SOCI \nAll’interno del circolo è attivo un servizio di security. Garantiamo la tua massima riservatezza. \nPer informazioni chiamaci allo 0825 660018 o al 327 3560315 (anche via WhatsApp) \nSEGUI GLI EVENTI SUL NOSTRO CANALE TELEGRAM E ISCRIVITI ALLA NOSTRA NEWSLETTER DALLA HOME PAGE DEL SITO OLIMPO2.IT:\nhttps://t.me/Olimpo2Avellino/241 \nCHATTA CON NOI SU TELEGRAM:\nhttps://web.telegram.org/a/#1190578739 \nCi trovi anche su Annunci69\, Spicy Match\, IOL\, Facebook\, Youtube\, Instagram.
URL:https://www.olimpo2.it/evento/threesome-party-21-marzo-2025/
LOCATION:Olimpo 2\, Contrada Via Fratte snc zona Pip. Avellino\, Forino\, AV\, 83020\, Italia
CATEGORIES:Venerdì
ATTACH;FMTTYPE=image/png:https://www.olimpo2.it/wp-content/uploads/2025/02/06-21-marzo-2025-1.png
END:VEVENT
BEGIN:VEVENT
DTSTART;TZID=UTC:20250221T153000
DTEND;TZID=UTC:20250222T050000
DTSTAMP:20260420T023135
CREATED:20250123T175520Z
LAST-MODIFIED:20250129T091704Z
UID:5120-1740151800-1740200400@www.olimpo2.it
SUMMARY:THREESOME PARTY
DESCRIPTION:Venerdì 21 febbraio 2025 \nSPA WELLNESS DALLE 15.30 ALLE 20.30 \nPreparati a vivere un’esperienza oscura\, passionale e ricca di mistero al nostro esclusivo party libertino. In una notte dove il confine tra realtà e fantasia si dissolve\, lasciati sedurre dal fascino gotico e dall’energia magnetica di un evento che risveglierà i tuoi istinti più profondi. Tra mistero\, passione e seduzione\, sarà una notte dove ogni desiderio prende vita… con un morso! SPA Wellness dalle 15.30 alle 20.30. Sexy Animation a cura di: Art director Nick Paino\, DJ Resident DJ Hilary e DJ Raf\, Special Voice Crazy Love. Promuoviamo un ambiente sicuro e rispettoso\, dove ogni socio può esplorare la propria sensualità in modo autentico e consensuale. \nCOMUNICAZIONE RISERVATA AI SOCI \nAll’interno del circolo è attivo un servizio di security. Garantiamo la tua massima riservatezza. \nPer informazioni chiamaci allo 0825 660018 o al 327 3560315 (anche via WhatsApp) \nSEGUI GLI EVENTI SUL NOSTRO CANALE TELEGRAM E ISCRIVITI ALLA NOSTRA NEWSLETTER DALLA HOME PAGE DEL SITO OLIMPO2.IT:\nhttps://t.me/Olimpo2Avellino/241 \nCHATTA CON NOI SU TELEGRAM:\nhttps://web.telegram.org/a/#1190578739 \nCi trovi anche su Annunci69\, Spicy Match\, IOL\, Facebook\, Youtube\, Instagram.
URL:https://www.olimpo2.it/evento/threesome-party-21-febbraio-2025/
LOCATION:Olimpo 2\, Contrada Via Fratte snc zona Pip. Avellino\, Forino\, AV\, 83020\, Italia
CATEGORIES:Venerdì
ATTACH;FMTTYPE=image/png:https://www.olimpo2.it/wp-content/uploads/2025/01/06n-21-febbraio-2025.png
END:VEVENT
END:VCALENDAR