BEGIN:VCALENDAR
VERSION:2.0
PRODID:-//Olimpo 2 - Terme &amp; Privè Club | Centro spa trasgressivo Avellino - ECPv6.15.20//NONSGML v1.0//EN
CALSCALE:GREGORIAN
METHOD:PUBLISH
X-WR-CALNAME:Olimpo 2 - Terme &amp; Privè Club | Centro spa trasgressivo Avellino
X-ORIGINAL-URL:https://www.olimpo2.it
X-WR-CALDESC:Eventi per Olimpo 2 - Terme &amp; Privè Club | Centro spa trasgressivo Avellino
REFRESH-INTERVAL;VALUE=DURATION:PT1H
X-Robots-Tag:noindex
X-PUBLISHED-TTL:PT1H
BEGIN:VTIMEZONE
TZID:UTC
BEGIN:STANDARD
TZOFFSETFROM:+0000
TZOFFSETTO:+0000
TZNAME:UTC
DTSTART:20230101T000000
END:STANDARD
END:VTIMEZONE
BEGIN:VEVENT
DTSTART;TZID=UTC:20250130T153000
DTEND;TZID=UTC:20250131T010000
DTSTAMP:20260423T141827
CREATED:20241222T160142Z
LAST-MODIFIED:20241222T160142Z
UID:5025-1738251000-1738285200@www.olimpo2.it
SUMMARY:THURSDAY SPA
DESCRIPTION:Giovedì 30 gennaio 2025 \nDiventa socio o già socio\, partecipa alle nostre iniziative. SPA START 15.30 END 01.00“COPPIA NESSUN CONTRIBUTO – SINGLE MINIMO CONTRIBUTO”.Il Giovedì dedicato a coppie e single\, amanti del benessere.Olimpo 2\, le Terme per eccellenza\, in cui godersi momenti di puro piacere libertino.L’accesso SPA comprende l’utilizzo della piscina riscaldata\, idromassaggio\, sauna\, bagnoturco\, docce\, room privé\, corner drink e food.Tutti i soci riceveranno in dotazione telo bagno\, accappatoio\, ciabatte\, armadietto personale e cena buffet.Non fartelo raccontare\, vivilo!(Per tutti coloro vogliano raggiungerci dopo le 21.00\, consigliamo di contattarci prima di accedere al Club). \nCOMUNICAZIONE RISERVATA AI SOCI Servizio di Security all’interno del circolo. Garantiamo la tua riservatezza.Per informazioni chiamaci al 3273560315 (anche via whatsapp) https://www.olimpo2.itContrada Via Fratte snc zona Pip. Avellino – 83020 Forino (AV)SEGUI GLI EVENTI SUL CANALE TELEGRAM:https://t.me/Olimpo2Avellino/241CHAT CON NOI SU TELEGRAM:https://web.telegram.org/a/#1190578739 Ci trovi anche su Annunci69\, Spicy Match\, IOL\, Facebook\, Youtube\, Instagram.
URL:https://www.olimpo2.it/evento/thursday-spa-30-gennaio-2025/
LOCATION:Olimpo 2\, Contrada Via Fratte snc zona Pip. Avellino\, Forino\, AV\, 83020\, Italia
CATEGORIES:Giovedì
ATTACH;FMTTYPE=image/jpeg:https://www.olimpo2.it/wp-content/uploads/2024/12/GIOVEDI-30-GENNAIO-THURSDAY-SPA.jpg
END:VEVENT
BEGIN:VEVENT
DTSTART;TZID=UTC:20250123T153000
DTEND;TZID=UTC:20250124T010000
DTSTAMP:20260423T141827
CREATED:20241222T160052Z
LAST-MODIFIED:20241222T160052Z
UID:5023-1737646200-1737680400@www.olimpo2.it
SUMMARY:THURSDAY SPA
DESCRIPTION:Giovedì 23 gennaio 2025 \nDiventa socio o già socio\, partecipa alle nostre iniziative. SPA START 15.30 END 01.00“COPPIA NESSUN CONTRIBUTO – SINGLE MINIMO CONTRIBUTO”.Il Giovedì dedicato a coppie e single\, amanti del benessere.Olimpo 2\, le Terme per eccellenza\, in cui godersi momenti di puro piacere libertino.L’accesso SPA comprende l’utilizzo della piscina riscaldata\, idromassaggio\, sauna\, bagnoturco\, docce\, room privé\, corner drink e food.Tutti i soci riceveranno in dotazione telo bagno\, accappatoio\, ciabatte\, armadietto personale e cena buffet.Non fartelo raccontare\, vivilo!(Per tutti coloro vogliano raggiungerci dopo le 21.00\, consigliamo di contattarci prima di accedere al Club). \nCOMUNICAZIONE RISERVATA AI SOCI Servizio di Security all’interno del circolo. Garantiamo la tua riservatezza.Per informazioni chiamaci al 3273560315 (anche via whatsapp) https://www.olimpo2.itContrada Via Fratte snc zona Pip. Avellino – 83020 Forino (AV)SEGUI GLI EVENTI SUL CANALE TELEGRAM:https://t.me/Olimpo2Avellino/241CHAT CON NOI SU TELEGRAM:https://web.telegram.org/a/#1190578739 Ci trovi anche su Annunci69\, Spicy Match\, IOL\, Facebook\, Youtube\, Instagram.
URL:https://www.olimpo2.it/evento/thursday-spa-23-gennaio-2025/
LOCATION:Olimpo 2\, Contrada Via Fratte snc zona Pip. Avellino\, Forino\, AV\, 83020\, Italia
CATEGORIES:Giovedì
ATTACH;FMTTYPE=image/jpeg:https://www.olimpo2.it/wp-content/uploads/2024/12/GIOVEDI-23-GENNAIO-THURSDAY-SPA.jpg
END:VEVENT
BEGIN:VEVENT
DTSTART;TZID=UTC:20250116T153000
DTEND;TZID=UTC:20250117T010000
DTSTAMP:20260423T141827
CREATED:20241222T155958Z
LAST-MODIFIED:20241222T155958Z
UID:5021-1737041400-1737075600@www.olimpo2.it
SUMMARY:THURSDAY SPA
DESCRIPTION:Giovedì 16 gennaio 2025 \nDiventa socio o già socio\, partecipa alle nostre iniziative. SPA START 15.30 END 01.00“COPPIA NESSUN CONTRIBUTO – SINGLE MINIMO CONTRIBUTO”.Il Giovedì dedicato a coppie e single\, amanti del benessere.Olimpo 2\, le Terme per eccellenza\, in cui godersi momenti di puro piacere libertino.L’accesso SPA comprende l’utilizzo della piscina riscaldata\, idromassaggio\, sauna\, bagnoturco\, docce\, room privé\, corner drink e food.Tutti i soci riceveranno in dotazione telo bagno\, accappatoio\, ciabatte\, armadietto personale e cena buffet.Non fartelo raccontare\, vivilo!(Per tutti coloro vogliano raggiungerci dopo le 21.00\, consigliamo di contattarci prima di accedere al Club). \nCOMUNICAZIONE RISERVATA AI SOCI Servizio di Security all’interno del circolo. Garantiamo la tua riservatezza.Per informazioni chiamaci al 3273560315 (anche via whatsapp) https://www.olimpo2.itContrada Via Fratte snc zona Pip. Avellino – 83020 Forino (AV)SEGUI GLI EVENTI SUL CANALE TELEGRAM:https://t.me/Olimpo2Avellino/241CHAT CON NOI SU TELEGRAM:https://web.telegram.org/a/#1190578739 Ci trovi anche su Annunci69\, Spicy Match\, IOL\, Facebook\, Youtube\, Instagram.
URL:https://www.olimpo2.it/evento/thursday-spa-16-gennaio-2025/
LOCATION:Olimpo 2\, Contrada Via Fratte snc zona Pip. Avellino\, Forino\, AV\, 83020\, Italia
CATEGORIES:Giovedì
ATTACH;FMTTYPE=image/jpeg:https://www.olimpo2.it/wp-content/uploads/2024/12/GIOVEDI-16-GENNAIO-THURSDAY-SPA.jpg
END:VEVENT
BEGIN:VEVENT
DTSTART;TZID=UTC:20241219T153000
DTEND;TZID=UTC:20241220T010000
DTSTAMP:20260423T141827
CREATED:20241129T222602Z
LAST-MODIFIED:20241129T222602Z
UID:4929-1734622200-1734656400@www.olimpo2.it
SUMMARY:THURSDAY SPA
DESCRIPTION:Giovedì 19 dicembre 2024 \n🗣👍Diventa socio o già socio\, partecipa alle nostre iniziative.\n▶ SPA START 15.30 END 01.00\n“COPPIA NESSUN CONTRIBUTO – SINGLE MINIMO CONTRIBUTO”.\nIl Giovedì dedicato a coppie e single\, amanti del benessere.\nOlimpo 2\, le Terme per eccellenza\, in cui godersi momenti di puro piacere libertino.\nL’accesso SPA comprende l’utilizzo della piscina riscaldata\, idromassaggio\, sauna\, bagnoturco\, docce\, room privé\, corner drink e food.\nTutti i soci riceveranno in dotazione telo bagno\, accappatoio\, ciabatte\, armadietto personale e cena buffet.\nNon fartelo raccontare\, vivilo!\n(Per tutti coloro vogliano raggiungerci dopo le 21.00\, consigliamo di contattarci prima di accedere al Club). \nCOMUNICAZIONE RISERVATA AI SOCI\n🔏 Servizio di Security all’interno del circolo.\n🚫 Garantiamo la tua riservatezza.\n📱Per informazioni chiamaci al 3273560315 (anche via whatsapp)\n🌐 https://www.olimpo2.it\n📍Contrada Via Fratte snc zona Pip. Avellino – 83020 Forino (AV)\nSEGUI GLI EVENTI SUL CANALE TELEGRAM:\nhttps://t.me/Olimpo2Avellino/241\nCHAT CON NOI SU TELEGRAM:\nhttps://web.telegram.org/a/#1190578739\n💟 Ci trovi anche su Annunci69\, Spicy Match\, IOL\, Facebook\, Youtube\, Instagram.
URL:https://www.olimpo2.it/evento/thursday-spa-19-dicembre-2024/
LOCATION:Olimpo 2\, Contrada Via Fratte snc zona Pip. Avellino\, Forino\, AV\, 83020\, Italia
CATEGORIES:Giovedì
ATTACH;FMTTYPE=image/jpeg:https://www.olimpo2.it/wp-content/uploads/2024/11/GIOVEDI-19-DICEMBRE-THURSDAY-SPA.jpg
END:VEVENT
BEGIN:VEVENT
DTSTART;TZID=UTC:20241128T153000
DTEND;TZID=UTC:20241129T010000
DTSTAMP:20260423T141827
CREATED:20241025T184443Z
LAST-MODIFIED:20241025T184443Z
UID:4825-1732807800-1732842000@www.olimpo2.it
SUMMARY:THURSDAY SPA
DESCRIPTION:Giovedì 28 novembre 2024 \nDiventa socio o già socio\, potrai partecipare come SPA START 15.30 END 01.00 “COPPIA NESSUN CONTRIBUTO – SINGLE MINIMO CONTRIBUTO”.Speciale giovedì dedicato a tutti gli amanti del wellness relax\, accompagnato da un pizzico di brio\, vivendo momenti di puro piacere libertino.L’accesso wellness include l’utilizzo della piscina coperta\, scoperta\, sauna\, idromassaggio\, docce\, solarium esterno\, zona disco\, room privé\, corner drink e food.Tutti i soci riceveranno in dotazione telo bagno\, accappatoio e ciabattine.Olimpo 2 Avellino Terme il club unico ed esclusivo del sud Italia.Non fartelo raccontare\, vivilo!(Per tutti coloro vogliano raggiungerci dopo le 21.00\, consigliamo di contattarci prima di accedere al Club).COMUNICAZIONE RISERVATA AI SOCI Servizio di Security all’interno del circolo. Garantiamo la tua riservatezza.Per informazioni chiamaci al 3273560315 (anche via whatsapp) https://www.olimpo2.itContrada Via Fratte snc zona Pip. Avellino – 83020 Forino (AV)SEGUI GLI EVENTI SUL CANALE TELEGRAM:https://t.me/Olimpo2Avellino/241CHAT CON NOI SU TELEGRAM:https://web.telegram.org/a/#1190578739 Ci trovi anche su Annunci69\, Spicy Match\, IOL\, Facebook\, Youtube\, Instagram.
URL:https://www.olimpo2.it/evento/thursday-spa-28-novembre-2024/
LOCATION:Olimpo 2\, Contrada Via Fratte snc zona Pip. Avellino\, Forino\, AV\, 83020\, Italia
CATEGORIES:Giovedì
ATTACH;FMTTYPE=image/jpeg:https://www.olimpo2.it/wp-content/uploads/2024/10/GIOVEDI-28-NOVEMBRE-THURSDAY-SPA.jpg
END:VEVENT
BEGIN:VEVENT
DTSTART;TZID=UTC:20241121T153000
DTEND;TZID=UTC:20241122T010000
DTSTAMP:20260423T141827
CREATED:20241025T184351Z
LAST-MODIFIED:20241025T184351Z
UID:4823-1732203000-1732237200@www.olimpo2.it
SUMMARY:THURSDAY SPA
DESCRIPTION:Giovedì 21 novembre 2024 \nDiventa socio o già socio\, potrai partecipare come SPA START 15.30 END 01.00 “COPPIA NESSUN CONTRIBUTO – SINGLE MINIMO CONTRIBUTO”.Speciale giovedì dedicato a tutti gli amanti del wellness relax\, accompagnato da un pizzico di brio\, vivendo momenti di puro piacere libertino.L’accesso wellness include l’utilizzo della piscina coperta\, scoperta\, sauna\, idromassaggio\, docce\, solarium esterno\, zona disco\, room privé\, corner drink e food.Tutti i soci riceveranno in dotazione telo bagno\, accappatoio e ciabattine.Olimpo 2 Avellino Terme il club unico ed esclusivo del sud Italia.Non fartelo raccontare\, vivilo!(Per tutti coloro vogliano raggiungerci dopo le 21.00\, consigliamo di contattarci prima di accedere al Club).COMUNICAZIONE RISERVATA AI SOCI Servizio di Security all’interno del circolo. Garantiamo la tua riservatezza.Per informazioni chiamaci al 3273560315 (anche via whatsapp) https://www.olimpo2.itContrada Via Fratte snc zona Pip. Avellino – 83020 Forino (AV)SEGUI GLI EVENTI SUL CANALE TELEGRAM:https://t.me/Olimpo2Avellino/241CHAT CON NOI SU TELEGRAM:https://web.telegram.org/a/#1190578739 Ci trovi anche su Annunci69\, Spicy Match\, IOL\, Facebook\, Youtube\, Instagram.
URL:https://www.olimpo2.it/evento/thursday-spa-21-novembre-2024/
LOCATION:Olimpo 2\, Contrada Via Fratte snc zona Pip. Avellino\, Forino\, AV\, 83020\, Italia
CATEGORIES:Giovedì
ATTACH;FMTTYPE=image/jpeg:https://www.olimpo2.it/wp-content/uploads/2024/10/GIOVEDI-21-NOVEMBRE-THURSDAY-SPA.jpg
END:VEVENT
BEGIN:VEVENT
DTSTART;TZID=UTC:20240926T153000
DTEND;TZID=UTC:20240927T010000
DTSTAMP:20260423T141827
CREATED:20240909T100504Z
LAST-MODIFIED:20240910T045424Z
UID:4552-1727364600-1727398800@www.olimpo2.it
SUMMARY:THURSDAY SPA
DESCRIPTION:Giovedì 26 settembre 2024 \n▶ SPA START 15.30 END 01.00\no FREE PASS PER TUTTE LE COPPIE\no CONTRIBUTO RIDOTTO SINGOLI\nSpeciale giovedì dedicato a tutti gli amanti del benessere accompagnato da un pizzico di brio\, vivendo momenti di puro piacere libertino.\nL’accesso wellness include l’utilizzo della piscina coperta\, scoperta\, sauna\, idromassaggio\, docce\, solarium esterno\, zona disco libertina\, room privé\, corner drink e food.\nTutti i soci riceveranno in dotazione telo bagno\, accappatoio e ciabattine.\nOlimpo 2 Avellino Terme il club unico ed esclusivo del sud Italia.\nNon fartelo raccontare\, vivilo!\nCOMUNICAZIONE RISERVATA AI SOCI\n✅ Garantiamo la massima sicurezza.\n🚫 Garantiamo la tua riservatezza.\n📱Per informazioni chiamaci al 3273560315 (anche via whatsapp)\n🌐 https://www.olimpo2.it/\n📍 via fratte ZONA P.I.P.\, Contrada\, Italy\n💟 Ci trovi anche su Annunci69\, Spicy Match\, IOL\, Facebook\, YouTube\, Instagram.
URL:https://www.olimpo2.it/evento/thursday-spa-26-ottobre-2024/
LOCATION:Olimpo 2\, Contrada Via Fratte snc zona Pip. Avellino\, Forino\, AV\, 83020\, Italia
CATEGORIES:Giovedì
ATTACH;FMTTYPE=image/jpeg:https://www.olimpo2.it/wp-content/uploads/2024/09/GIOVEDI-26-SETTEMBRE-THURSDAY-SPA.jpg
END:VEVENT
BEGIN:VEVENT
DTSTART;TZID=UTC:20240919T153000
DTEND;TZID=UTC:20240920T010000
DTSTAMP:20260423T141827
CREATED:20240909T100415Z
LAST-MODIFIED:20240910T045041Z
UID:4550-1726759800-1726794000@www.olimpo2.it
SUMMARY:THURSDAY SPA
DESCRIPTION:Giovedì 19 settembre 2024 \n▶ SPA START 15.30 END 01.00\no FREE PASS PER TUTTE LE COPPIE\no CONTRIBUTO RIDOTTO SINGOLI\nSpeciale giovedì dedicato a tutti gli amanti del benessere accompagnato da un pizzico di brio\, vivendo momenti di puro piacere libertino.\nL’accesso wellness include l’utilizzo della piscina coperta\, scoperta\, sauna\, idromassaggio\, docce\, solarium esterno\, zona disco libertina\, room privé\, corner drink e food.\nTutti i soci riceveranno in dotazione telo bagno\, accappatoio e ciabattine.\nOlimpo 2 Avellino Terme il club unico ed esclusivo del sud Italia.\nNon fartelo raccontare\, vivilo!\nCOMUNICAZIONE RISERVATA AI SOCI\n✅ Garantiamo la massima sicurezza.\n🚫 Garantiamo la tua riservatezza.\n📱Per informazioni chiamaci al 3273560315 (anche via whatsapp)\n🌐 https://www.olimpo2.it/\n📍 via fratte ZONA P.I.P.\, Contrada\, Italy\n💟 Ci trovi anche su Annunci69\, Spicy Match\, IOL\, Facebook\, YouTube\, Instagram.
URL:https://www.olimpo2.it/evento/thursday-spa-19-settembre-2024/
LOCATION:Olimpo 2\, Contrada Via Fratte snc zona Pip. Avellino\, Forino\, AV\, 83020\, Italia
CATEGORIES:Giovedì
ATTACH;FMTTYPE=image/jpeg:https://www.olimpo2.it/wp-content/uploads/2024/09/GIOVEDI-19-SETTEMBRE-THURSDAY-SPA.jpg
END:VEVENT
BEGIN:VEVENT
DTSTART;TZID=UTC:20240912T153000
DTEND;TZID=UTC:20240913T010000
DTSTAMP:20260423T141827
CREATED:20240906T065253Z
LAST-MODIFIED:20240906T070342Z
UID:4497-1726155000-1726189200@www.olimpo2.it
SUMMARY:THURSDAY SPA
DESCRIPTION:Gioved’ 12 settembre 2024 \nSPA START 10.00 END 01.00\no FREE PASS PER TUTTE LE COPPIE\no CONTRIBUTO RIDOTTO SINGOLI\nSpeciale giovedì dedicato a tutti gli amanti del benessere accompagnato da un pizzico di brio\, vivendo momenti di puro piacere libertino.\nL’accesso wellness include l’utilizzo della piscina coperta\, scoperta\, sauna\, idromassaggio\, docce\, solarium esterno\, zona disco libertina\, room privé\, corner drink e food.\nTutti i soci riceveranno in dotazione telo bagno\, accappatoio e ciabattine.\nOlimpo 2 Avellino Terme il club unico ed esclusivo del sud Italia.\nNon fartelo raccontare\, vivilo!\nCOMUNICAZIONE RISERVATA AI SOCI\n✅ Garantiamo la massima sicurezza.\n🚫 Garantiamo la tua riservatezza.\n📱Per informazioni chiamaci al 3273560315 (anche via whatsapp)\n🌐 https://www.olimpo2.it/\n📍 via fratte ZONA P.I.P.\, Contrada\, Italy\n💟 Ci trovi anche su Annunci69\, Spicy Match\, IOL\, Facebook\, YouTube\, Instagram.
URL:https://www.olimpo2.it/evento/thursday-spa-12-settembre-2024/
LOCATION:Olimpo 2\, Contrada Via Fratte snc zona Pip. Avellino\, Forino\, AV\, 83020\, Italia
CATEGORIES:Giovedì
ATTACH;FMTTYPE=image/jpeg:https://www.olimpo2.it/wp-content/uploads/2024/09/GIOVEDI-12-SETTEMBRE-THURSDAY-SPA.jpg
END:VEVENT
END:VCALENDAR