BEGIN:VCALENDAR
VERSION:2.0
PRODID:-//Olimpo 2 - Terme &amp; Privè Club | Centro spa trasgressivo Avellino - ECPv6.15.20//NONSGML v1.0//EN
CALSCALE:GREGORIAN
METHOD:PUBLISH
X-WR-CALNAME:Olimpo 2 - Terme &amp; Privè Club | Centro spa trasgressivo Avellino
X-ORIGINAL-URL:https://www.olimpo2.it
X-WR-CALDESC:Eventi per Olimpo 2 - Terme &amp; Privè Club | Centro spa trasgressivo Avellino
REFRESH-INTERVAL;VALUE=DURATION:PT1H
X-Robots-Tag:noindex
X-PUBLISHED-TTL:PT1H
BEGIN:VTIMEZONE
TZID:UTC
BEGIN:STANDARD
TZOFFSETFROM:+0000
TZOFFSETTO:+0000
TZNAME:UTC
DTSTART:20230101T000000
END:STANDARD
END:VTIMEZONE
BEGIN:VEVENT
DTSTART;TZID=UTC:20240911T153000
DTEND;TZID=UTC:20240912T010000
DTSTAMP:20260423T032840
CREATED:20240906T065040Z
LAST-MODIFIED:20240906T070317Z
UID:4495-1726068600-1726102800@www.olimpo2.it
SUMMARY:WEDNESDAY SPA
DESCRIPTION:Mercoledì 11 settembre 2024 \n▶ SPA START 15.30 END 20.30 CONTRIBUTO RIDOTTO SINGOLI\n▶ SPA START 21.00 END 03.00 SPA SOLO COPPIE\nIl mercoledì dedicato dedicato a tutti gli amanti del benessere\, accompagnato da un pizzico di brio\, vivendo momenti di puro piacere libertino.\nL’accesso wellness include l’utilizzo della piscina coperta\, scoperta\, sauna\, idromassaggio\, docce\, solarium esterno\, zona disco libertina\, room privé\, corner drink e food.\nTutti i soci riceveranno in dotazione telo bagno\, accappatoio e ciabattine.\nOlimpo 2 Avellino Terme il club unico ed esclusivo del sud Italia\nNon fartelo raccontare\, vivilo!\nCOMUNICAZIONE RISERVATA AI SOCI\n✅ Garantiamo la massima sicurezza.\n🚫 Garantiamo la tua riservatezza.\n📱Per informazioni chiamaci al 3273560315 (anche via whatsapp)\n🌐 https://www.olimpo2.it/\n📍 via fratte ZONA P.I.P.\, Contrada\, Italy\n💟 Ci trovi anche su Annunci69\, Spicy Match\, IOL\, Facebook\, YouTube\, Instagram.
URL:https://www.olimpo2.it/evento/wednesday-spa-11-settembre-2024/
LOCATION:Olimpo 2\, Contrada Via Fratte snc zona Pip. Avellino\, Forino\, AV\, 83020\, Italia
CATEGORIES:Mercoledì
ATTACH;FMTTYPE=image/jpeg:https://www.olimpo2.it/wp-content/uploads/2024/09/MERCOLEDI-11-SETTEMBRE-WEDNESDAY-SPA.jpg
END:VEVENT
BEGIN:VEVENT
DTSTART;TZID=UTC:20240918T153000
DTEND;TZID=UTC:20240919T010000
DTSTAMP:20260423T032840
CREATED:20240909T100151Z
LAST-MODIFIED:20240909T100151Z
UID:4546-1726673400-1726707600@www.olimpo2.it
SUMMARY:WEDNESDAY HOT
DESCRIPTION:Mercoledì 18 settembre 2024 \n▶ SPA START 15.30 END 20.30 CONTRIBUTO RIDOTTO SINGOLI\n▶ SPA START 21.00 END 03.00 SPA SOLO COPPIE\nIl mercoledì dedicato dedicato a tutti gli amanti del benessere\, accompagnato da un pizzico di brio\, vivendo momenti di puro piacere libertino.\nL’accesso wellness include l’utilizzo della piscina coperta\, scoperta\, sauna\, idromassaggio\, docce\, solarium esterno\, zona disco libertina\, room privé\, corner drink e food.\nTutti i soci riceveranno in dotazione telo bagno\, accappatoio e ciabattine.\nOlimpo 2 Avellino Terme il club unico ed esclusivo del sud Italia\nNon fartelo raccontare\, vivilo!\nCOMUNICAZIONE RISERVATA AI SOCI\n✅ Garantiamo la massima sicurezza.\n🚫 Garantiamo la tua riservatezza.\n📱Per informazioni chiamaci al 3273560315 (anche via whatsapp)\n🌐 https://www.olimpo2.it/\n📍 via fratte ZONA P.I.P.\, Contrada\, Italy\n💟 Ci trovi anche su Annunci69\, Spicy Match\, IOL\, Facebook\, YouTube\, Instagram.
URL:https://www.olimpo2.it/evento/wednesday-hot-18-settembre-2024/
LOCATION:Olimpo 2\, Contrada Via Fratte snc zona Pip. Avellino\, Forino\, AV\, 83020\, Italia
CATEGORIES:Mercoledì
ATTACH;FMTTYPE=image/jpeg:https://www.olimpo2.it/wp-content/uploads/2024/09/Olimpo-2-Avellino-18-settembre-2024.jpeg
END:VEVENT
BEGIN:VEVENT
DTSTART;TZID=UTC:20240925T153000
DTEND;TZID=UTC:20240926T010000
DTSTAMP:20260423T032840
CREATED:20240909T100302Z
LAST-MODIFIED:20240909T100302Z
UID:4548-1727278200-1727312400@www.olimpo2.it
SUMMARY:WEDNESDAY HOT
DESCRIPTION:Mercoledì 25 settembre 2024 \n▶ SPA START 15.30 END 20.30 CONTRIBUTO RIDOTTO SINGOLI\n▶ SPA START 21.00 END 03.00 SPA SOLO COPPIE\nIl mercoledì dedicato dedicato a tutti gli amanti del benessere\, accompagnato da un pizzico di brio\, vivendo momenti di puro piacere libertino.\nL’accesso wellness include l’utilizzo della piscina coperta\, scoperta\, sauna\, idromassaggio\, docce\, solarium esterno\, zona disco libertina\, room privé\, corner drink e food.\nTutti i soci riceveranno in dotazione telo bagno\, accappatoio e ciabattine.\nOlimpo 2 Avellino Terme il club unico ed esclusivo del sud Italia\nNon fartelo raccontare\, vivilo!\nCOMUNICAZIONE RISERVATA AI SOCI\n✅ Garantiamo la massima sicurezza.\n🚫 Garantiamo la tua riservatezza.\n📱Per informazioni chiamaci al 3273560315 (anche via whatsapp)\n🌐 https://www.olimpo2.it/\n📍 via fratte ZONA P.I.P.\, Contrada\, Italy\n💟 Ci trovi anche su Annunci69\, Spicy Match\, IOL\, Facebook\, YouTube\, Instagram.
URL:https://www.olimpo2.it/evento/wednesday-hot-25-settembre-2024/
LOCATION:Olimpo 2\, Contrada Via Fratte snc zona Pip. Avellino\, Forino\, AV\, 83020\, Italia
CATEGORIES:Mercoledì
ATTACH;FMTTYPE=image/jpeg:https://www.olimpo2.it/wp-content/uploads/2024/09/Olimpo-2-Avellino-25-settembre-2024.jpeg
END:VEVENT
END:VCALENDAR