BEGIN:VCALENDAR
VERSION:2.0
PRODID:-//Olimpo 2 - Terme &amp; Privè Club | Centro spa trasgressivo Avellino - ECPv6.15.15//NONSGML v1.0//EN
CALSCALE:GREGORIAN
METHOD:PUBLISH
X-ORIGINAL-URL:https://www.olimpo2.it
X-WR-CALDESC:Eventi per Olimpo 2 - Terme &amp; Privè Club | Centro spa trasgressivo Avellino
REFRESH-INTERVAL;VALUE=DURATION:PT1H
X-Robots-Tag:noindex
X-PUBLISHED-TTL:PT1H
BEGIN:VTIMEZONE
TZID:UTC
BEGIN:STANDARD
TZOFFSETFROM:+0000
TZOFFSETTO:+0000
TZNAME:UTC
DTSTART:20230101T000000
END:STANDARD
END:VTIMEZONE
BEGIN:VEVENT
DTSTART;TZID=UTC:20241218T153000
DTEND;TZID=UTC:20241219T030000
DTSTAMP:20260421T221441
CREATED:20241129T221618Z
LAST-MODIFIED:20241129T221618Z
UID:4923-1734535800-1734577200@www.olimpo2.it
SUMMARY:WEDNESDAY HOT
DESCRIPTION:Mercoledì 18 dicembre 2024 \n🗣👍Diventa socio o già socio\, partecipa alle nostre iniziative.\n▶ SPA START 15.30 END 20.30\n“COPPIA E SINGLE MINIMO CONTRIBUTO”\n▶ SPA START 21.00 END 03.00 SPA SOLO COPPIE\nIl mercoledì dedicato a coppie e single\, amanti del benessere. Olimpo 2\, le Terme per eccellenza\, in cui godersi momenti di puro piacere libertino.\nL’accesso SPA comprende l’utilizzo della piscina riscaldata\, idromassaggio\, sauna\, bagnoturco\, docce\, room privé\, corner drink e food.\nTutti i soci riceveranno in dotazione telo bagno\, accappatoio\, ciabatte\, armadietto personale e cena buffet.\nNon fartelo raccontare\, vivilo!\n(Per tutti coloro vogliano raggiungerci dopo le 21.00\, consigliamo di contattarci prima di accedere al Club). \nCOMUNICAZIONE RISERVATA AI SOCI\n🔏 Servizio di Security all’interno del circolo.\n🚫 Garantiamo la tua riservatezza.\n📱Per informazioni chiamaci al 3273560315 (anche via whatsapp)\n🌐 https://www.olimpo2.it\n📍Contrada Via Fratte snc zona Pip. Avellino – 83020 Forino (AV)\nSEGUI GLI EVENTI SUL CANALE TELEGRAM:\nhttps://t.me/Olimpo2Avellino/241\nCHAT CON NOI SU TELEGRAM:\nhttps://web.telegram.org/a/#1190578739\n💟 Ci trovi anche su Annunci69\, Spicy Match\, IOL\, Facebook\, Youtube\, Instagram.
URL:https://www.olimpo2.it/evento/wednesday-hot-18-dicembre-2024/
LOCATION:Olimpo 2\, Contrada Via Fratte snc zona Pip. Avellino\, Forino\, AV\, 83020\, Italia
CATEGORIES:Mercoledì
ATTACH;FMTTYPE=image/jpeg:https://www.olimpo2.it/wp-content/uploads/2024/11/MERCOLEDI-18-DICEMBRE-WEDNESDAY-SPA.jpg
END:VEVENT
BEGIN:VEVENT
DTSTART;TZID=UTC:20241211T153000
DTEND;TZID=UTC:20241212T030000
DTSTAMP:20260421T221441
CREATED:20241129T221423Z
LAST-MODIFIED:20241129T221423Z
UID:4921-1733931000-1733972400@www.olimpo2.it
SUMMARY:WEDNESDAY HOT
DESCRIPTION:Mercoledì 11 dicembre 2024 \n🗣👍Diventa socio o già socio\, partecipa alle nostre iniziative.\n▶ SPA START 15.30 END 20.30\n“COPPIA E SINGLE MINIMO CONTRIBUTO”\n▶ SPA START 21.00 END 03.00 SPA SOLO COPPIE\nIl mercoledì dedicato a coppie e single\, amanti del benessere. Olimpo 2\, le Terme per eccellenza\, in cui godersi momenti di puro piacere libertino.\nL’accesso SPA comprende l’utilizzo della piscina riscaldata\, idromassaggio\, sauna\, bagnoturco\, docce\, room privé\, corner drink e food.\nTutti i soci riceveranno in dotazione telo bagno\, accappatoio\, ciabatte\, armadietto personale e cena buffet.\nNon fartelo raccontare\, vivilo!\n(Per tutti coloro vogliano raggiungerci dopo le 21.00\, consigliamo di contattarci prima di accedere al Club). \nCOMUNICAZIONE RISERVATA AI SOCI\n🔏 Servizio di Security all’interno del circolo.\n🚫 Garantiamo la tua riservatezza.\n📱Per informazioni chiamaci al 3273560315 (anche via whatsapp)\n🌐 https://www.olimpo2.it\n📍Contrada Via Fratte snc zona Pip. Avellino – 83020 Forino (AV)\nSEGUI GLI EVENTI SUL CANALE TELEGRAM:\nhttps://t.me/Olimpo2Avellino/241\nCHAT CON NOI SU TELEGRAM:\nhttps://web.telegram.org/a/#1190578739\n💟 Ci trovi anche su Annunci69\, Spicy Match\, IOL\, Facebook\, Youtube\, Instagram.
URL:https://www.olimpo2.it/evento/wednesday-hot-11-dicembre-2024/
LOCATION:Olimpo 2\, Contrada Via Fratte snc zona Pip. Avellino\, Forino\, AV\, 83020\, Italia
CATEGORIES:Mercoledì
ATTACH;FMTTYPE=image/jpeg:https://www.olimpo2.it/wp-content/uploads/2024/11/MERCOLEDI-11-DICEMBRE-WEDNESDAY-SPA.jpg
END:VEVENT
BEGIN:VEVENT
DTSTART;TZID=UTC:20241204T153000
DTEND;TZID=UTC:20241205T030000
DTSTAMP:20260421T221441
CREATED:20241129T221103Z
LAST-MODIFIED:20241129T221103Z
UID:4919-1733326200-1733367600@www.olimpo2.it
SUMMARY:WEDNESDAY HOT
DESCRIPTION:Mercoledì 4 dicembre 2024 \n🗣👍Diventa socio o già socio\, partecipa alle nostre iniziative.\n▶ SPA START 15.30 END 20.30\n“COPPIA E SINGLE MINIMO CONTRIBUTO”\n▶ SPA START 21.00 END 03.00 SPA SOLO COPPIE\nIl mercoledì dedicato a coppie e single\, amanti del benessere. Olimpo 2\, le Terme per eccellenza\, in cui godersi momenti di puro piacere libertino.\nL’accesso SPA comprende l’utilizzo della piscina riscaldata\, idromassaggio\, sauna\, bagnoturco\, docce\, room privé\, corner drink e food.\nTutti i soci riceveranno in dotazione telo bagno\, accappatoio\, ciabatte\, armadietto personale e cena buffet.\nNon fartelo raccontare\, vivilo!\n(Per tutti coloro vogliano raggiungerci dopo le 21.00\, consigliamo di contattarci prima di accedere al Club). \nCOMUNICAZIONE RISERVATA AI SOCI\n🔏 Servizio di Security all’interno del circolo.\n🚫 Garantiamo la tua riservatezza.\n📱Per informazioni chiamaci al 3273560315 (anche via whatsapp)\n🌐 https://www.olimpo2.it\n📍Contrada Via Fratte snc zona Pip. Avellino – 83020 Forino (AV)\nSEGUI GLI EVENTI SUL CANALE TELEGRAM:\nhttps://t.me/Olimpo2Avellino/241\nCHAT CON NOI SU TELEGRAM:\nhttps://web.telegram.org/a/#1190578739\n💟 Ci trovi anche su Annunci69\, Spicy Match\, IOL\, Facebook\, Youtube\, Instagram.
URL:https://www.olimpo2.it/evento/wednesday-hot-4-dicembre-2024/
LOCATION:Olimpo 2\, Contrada Via Fratte snc zona Pip. Avellino\, Forino\, AV\, 83020\, Italia
CATEGORIES:Mercoledì
ATTACH;FMTTYPE=image/jpeg:https://www.olimpo2.it/wp-content/uploads/2024/11/MERCOLEDI-4-DICEMBRE-WEDNESDAY.jpg
END:VEVENT
BEGIN:VEVENT
DTSTART;TZID=UTC:20241127T153000
DTEND;TZID=UTC:20241128T030000
DTSTAMP:20260421T221441
CREATED:20241025T183747Z
LAST-MODIFIED:20241025T184936Z
UID:4817-1732721400-1732762800@www.olimpo2.it
SUMMARY:WEDNESDAY HOT
DESCRIPTION:Mercoledì 27 novembre 2024 \nDiventa socio o già socio\, potrai partecipare come SPA START 15.30 END 20.30 “COPPIA E SINGLE CON UN MINIMO CONTRIBUTO” SPA START 21.00 END 03.00 SPA SOLO COPPIEIl mercoledì dedicato a tutti gli amanti del benessere\, accompagnato da un pizzico di brio\, vivendo momenti di puro piacere libertino.L’accesso wellness include l’utilizzo della piscina coperta\, sauna\, idromassaggio\, docce\, zona disco\, room privé\, corner drink e food.Tutti i soci riceveranno in dotazione telo bagno\, accappatoio\, ciabattine e armadietto personale.Olimpo 2 Avellino Terme il club unico ed esclusivo del sud ItaliaNon fartelo raccontare\, vivilo!(Per tutti coloro vogliano raggiungerci dopo le 21.00\, consigliamo di contattarci prima di accedere al Club).COMUNICAZIONE RISERVATA AI SOCI Servizio di Security all’interno del circolo. Garantiamo la tua riservatezza.Per informazioni chiamaci al 3273560315 (anche via whatsapp) https://www.olimpo2.itContrada Via Fratte snc zona Pip. Avellino – 83020 Forino (AV)SEGUI GLI EVENTI SUL CANALE TELEGRAM:https://t.me/Olimpo2Avellino/241CHAT CON NOI SU TELEGRAM:https://web.telegram.org/a/#1190578739 Ci trovi anche su Annunci69\, Spicy Match\, IOL\, Facebook\, Youtube\, Instagram.
URL:https://www.olimpo2.it/evento/wednesday-hot-27-novembre-2024/
LOCATION:Olimpo 2\, Contrada Via Fratte snc zona Pip. Avellino\, Forino\, AV\, 83020\, Italia
CATEGORIES:Mercoledì
ATTACH;FMTTYPE=image/jpeg:https://www.olimpo2.it/wp-content/uploads/2024/10/MERCOLEDI-27-NOVEMBRE-WEDNESDAY-SPA.jpg
END:VEVENT
BEGIN:VEVENT
DTSTART;TZID=UTC:20241120T153000
DTEND;TZID=UTC:20241121T030000
DTSTAMP:20260421T221441
CREATED:20241025T183705Z
LAST-MODIFIED:20241025T183705Z
UID:4815-1732116600-1732158000@www.olimpo2.it
SUMMARY:WEDNESDAY HOT
DESCRIPTION:Mercoledì 20 novembre 2024 \nDiventa socio o già socio\, potrai partecipare come SPA START 15.30 END 20.30 “COPPIA E SINGLE CON UN MINIMO CONTRIBUTO” SPA START 21.00 END 03.00 SPA SOLO COPPIEIl mercoledì dedicato a tutti gli amanti del benessere\, accompagnato da un pizzico di brio\, vivendo momenti di puro piacere libertino.L’accesso wellness include l’utilizzo della piscina coperta\, sauna\, idromassaggio\, docce\, zona disco\, room privé\, corner drink e food.Tutti i soci riceveranno in dotazione telo bagno\, accappatoio\, ciabattine e armadietto personale.Olimpo 2 Avellino Terme il club unico ed esclusivo del sud ItaliaNon fartelo raccontare\, vivilo!(Per tutti coloro vogliano raggiungerci dopo le 21.00\, consigliamo di contattarci prima di accedere al Club).COMUNICAZIONE RISERVATA AI SOCI Servizio di Security all’interno del circolo. Garantiamo la tua riservatezza.Per informazioni chiamaci al 3273560315 (anche via whatsapp) https://www.olimpo2.itContrada Via Fratte snc zona Pip. Avellino – 83020 Forino (AV)SEGUI GLI EVENTI SUL CANALE TELEGRAM:https://t.me/Olimpo2Avellino/241CHAT CON NOI SU TELEGRAM:https://web.telegram.org/a/#1190578739 Ci trovi anche su Annunci69\, Spicy Match\, IOL\, Facebook\, Youtube\, Instagram.
URL:https://www.olimpo2.it/evento/wednesday-hot-20-novembre-2024/
LOCATION:Olimpo 2\, Contrada Via Fratte snc zona Pip. Avellino\, Forino\, AV\, 83020\, Italia
CATEGORIES:Mercoledì
ATTACH;FMTTYPE=image/jpeg:https://www.olimpo2.it/wp-content/uploads/2024/10/MERCOLEDI-20-NOVEMBRE-WEDNESDAY-SPA.jpg
END:VEVENT
BEGIN:VEVENT
DTSTART;TZID=UTC:20241113T153000
DTEND;TZID=UTC:20241114T030000
DTSTAMP:20260421T221441
CREATED:20241025T183615Z
LAST-MODIFIED:20241025T183615Z
UID:4813-1731511800-1731553200@www.olimpo2.it
SUMMARY:WEDNESDAY HOT
DESCRIPTION:Mercoledì 13 novembre 2024 \nDiventa socio o già socio\, potrai partecipare come SPA START 15.30 END 20.30 “COPPIA E SINGLE CON UN MINIMO CONTRIBUTO” SPA START 21.00 END 03.00 SPA SOLO COPPIEIl mercoledì dedicato a tutti gli amanti del benessere\, accompagnato da un pizzico di brio\, vivendo momenti di puro piacere libertino.L’accesso wellness include l’utilizzo della piscina coperta\, sauna\, idromassaggio\, docce\, zona disco\, room privé\, corner drink e food.Tutti i soci riceveranno in dotazione telo bagno\, accappatoio\, ciabattine e armadietto personale.Olimpo 2 Avellino Terme il club unico ed esclusivo del sud ItaliaNon fartelo raccontare\, vivilo!(Per tutti coloro vogliano raggiungerci dopo le 21.00\, consigliamo di contattarci prima di accedere al Club).COMUNICAZIONE RISERVATA AI SOCI Servizio di Security all’interno del circolo. Garantiamo la tua riservatezza.Per informazioni chiamaci al 3273560315 (anche via whatsapp) https://www.olimpo2.itContrada Via Fratte snc zona Pip. Avellino – 83020 Forino (AV)SEGUI GLI EVENTI SUL CANALE TELEGRAM:https://t.me/Olimpo2Avellino/241CHAT CON NOI SU TELEGRAM:https://web.telegram.org/a/#1190578739 Ci trovi anche su Annunci69\, Spicy Match\, IOL\, Facebook\, Youtube\, Instagram.
URL:https://www.olimpo2.it/evento/wednesday-hot-13-novembre-2024/
LOCATION:Olimpo 2\, Contrada Via Fratte snc zona Pip. Avellino\, Forino\, AV\, 83020\, Italia
CATEGORIES:Mercoledì
ATTACH;FMTTYPE=image/jpeg:https://www.olimpo2.it/wp-content/uploads/2024/10/MERCOLEDI-13-NOVEMBRE-WEDNESDAY-SPA.jpg
END:VEVENT
BEGIN:VEVENT
DTSTART;TZID=UTC:20241106T153000
DTEND;TZID=UTC:20241107T030000
DTSTAMP:20260421T221441
CREATED:20241025T183509Z
LAST-MODIFIED:20241025T183509Z
UID:4811-1730907000-1730948400@www.olimpo2.it
SUMMARY:WEDNESDAY HOT
DESCRIPTION:Mercoledì 6 novembre 2024 \nDiventa socio o già socio\, potrai partecipare come SPA START 15.30 END 20.30 “COPPIA E SINGLE CON UN MINIMO CONTRIBUTO” SPA START 21.00 END 03.00 SPA SOLO COPPIEIl mercoledì dedicato a tutti gli amanti del benessere\, accompagnato da un pizzico di brio\, vivendo momenti di puro piacere libertino.L’accesso wellness include l’utilizzo della piscina coperta\, sauna\, idromassaggio\, docce\, zona disco\, room privé\, corner drink e food.Tutti i soci riceveranno in dotazione telo bagno\, accappatoio\, ciabattine e armadietto personale.Olimpo 2 Avellino Terme il club unico ed esclusivo del sud ItaliaNon fartelo raccontare\, vivilo!(Per tutti coloro vogliano raggiungerci dopo le 21.00\, consigliamo di contattarci prima di accedere al Club).COMUNICAZIONE RISERVATA AI SOCI Servizio di Security all’interno del circolo. Garantiamo la tua riservatezza.Per informazioni chiamaci al 3273560315 (anche via whatsapp) https://www.olimpo2.itContrada Via Fratte snc zona Pip. Avellino – 83020 Forino (AV)SEGUI GLI EVENTI SUL CANALE TELEGRAM:https://t.me/Olimpo2Avellino/241CHAT CON NOI SU TELEGRAM:https://web.telegram.org/a/#1190578739 Ci trovi anche su Annunci69\, Spicy Match\, IOL\, Facebook\, Youtube\, Instagram.
URL:https://www.olimpo2.it/evento/wednesday-hot-6-ottobre-2024/
LOCATION:Olimpo 2\, Contrada Via Fratte snc zona Pip. Avellino\, Forino\, AV\, 83020\, Italia
CATEGORIES:Mercoledì
ATTACH;FMTTYPE=image/jpeg:https://www.olimpo2.it/wp-content/uploads/2024/10/MERCOLEDI-6-NOVEMBRE-WEDNESDAY.jpg
END:VEVENT
BEGIN:VEVENT
DTSTART;TZID=UTC:20241030T153000
DTEND;TZID=UTC:20241031T030000
DTSTAMP:20260421T221441
CREATED:20240928T143611Z
LAST-MODIFIED:20240928T143611Z
UID:4661-1730302200-1730343600@www.olimpo2.it
SUMMARY:WEDNESDAY HOT
DESCRIPTION:Mercoledì 30 ottobre 2024 \n🗣👍Diventa socio o già socio\, potrai partecipare come\n▶ SPA START 15.30 END 20.30 “COPPIA E SINGLE CON UN MINIMO CONTRIBUTO”\n▶ SPA START 21.00 END 03.00 SPA SOLO COPPIE\nIl mercoledì dedicato dedicato a tutti gli amanti del benessere\, accompagnato da un pizzico di brio\, vivendo momenti di puro piacere libertino.\nL’accesso wellness include l’utilizzo della piscina coperta\, scoperta\, sauna\, idromassaggio\, docce\, solarium esterno\, zona disco\, room privé\, corner drink e food.\nTutti i soci riceveranno in dotazione telo bagno\, accappatoio e ciabattine.\nOlimpo 2 Avellino Terme il club unico ed esclusivo del sud Italia\nNon fartelo raccontare\, vivilo!\n(Per tutti coloro vogliano raggiungerci dopo le 21.00\, consigliamo di contattarci prima di accedere al Club).\nCOMUNICAZIONE RISERVATA AI SOCI\n✅ Garantiamo la massima sicurezza.\n🚫 Garantiamo la tua riservatezza.\n📱Per informazioni chiamaci al 3273560315 (anche via whatsapp)\n🌐 https://www.olimpo2.it/\n📍 via fratte ZONA P.I.P.\, Contrada\, Italy\n💟 Ci trovi anche su Annunci69\, Spicy Match\, IOL\, Facebook\, YouTube\, Instagram.
URL:https://www.olimpo2.it/evento/wednesday-hot-30-ottobre-2024/
LOCATION:Olimpo 2\, Contrada Via Fratte snc zona Pip. Avellino\, Forino\, AV\, 83020\, Italia
CATEGORIES:Mercoledì
ATTACH;FMTTYPE=image/jpeg:https://www.olimpo2.it/wp-content/uploads/2024/09/MERCOLEDI-30-OTTOBRE-WEDNESDAY-SPA.jpg
END:VEVENT
BEGIN:VEVENT
DTSTART;TZID=UTC:20241023T153000
DTEND;TZID=UTC:20241024T030000
DTSTAMP:20260421T221441
CREATED:20240928T143520Z
LAST-MODIFIED:20240928T143520Z
UID:4659-1729697400-1729738800@www.olimpo2.it
SUMMARY:WEDNESDAY HOT
DESCRIPTION:Mercoledì 23 ottobre 2024 \n🗣👍Diventa socio o già socio\, potrai partecipare come\n▶ SPA START 15.30 END 20.30 “COPPIA E SINGLE CON UN MINIMO CONTRIBUTO”\n▶ SPA START 21.00 END 03.00 SPA SOLO COPPIE\nIl mercoledì dedicato dedicato a tutti gli amanti del benessere\, accompagnato da un pizzico di brio\, vivendo momenti di puro piacere libertino.\nL’accesso wellness include l’utilizzo della piscina coperta\, scoperta\, sauna\, idromassaggio\, docce\, solarium esterno\, zona disco\, room privé\, corner drink e food.\nTutti i soci riceveranno in dotazione telo bagno\, accappatoio e ciabattine.\nOlimpo 2 Avellino Terme il club unico ed esclusivo del sud Italia\nNon fartelo raccontare\, vivilo!\n(Per tutti coloro vogliano raggiungerci dopo le 21.00\, consigliamo di contattarci prima di accedere al Club).\nCOMUNICAZIONE RISERVATA AI SOCI\n✅ Garantiamo la massima sicurezza.\n🚫 Garantiamo la tua riservatezza.\n📱Per informazioni chiamaci al 3273560315 (anche via whatsapp)\n🌐 https://www.olimpo2.it/\n📍 via fratte ZONA P.I.P.\, Contrada\, Italy\n💟 Ci trovi anche su Annunci69\, Spicy Match\, IOL\, Facebook\, YouTube\, Instagram.
URL:https://www.olimpo2.it/evento/wednesday-hot-23-ottobre-2024/
LOCATION:Olimpo 2\, Contrada Via Fratte snc zona Pip. Avellino\, Forino\, AV\, 83020\, Italia
CATEGORIES:Mercoledì
ATTACH;FMTTYPE=image/jpeg:https://www.olimpo2.it/wp-content/uploads/2024/09/MERCOLEDI-23-OTTOBRE-WEDNESDAY-SPA.jpg
END:VEVENT
BEGIN:VEVENT
DTSTART;TZID=UTC:20241016T153000
DTEND;TZID=UTC:20241017T030000
DTSTAMP:20260421T221441
CREATED:20240928T143423Z
LAST-MODIFIED:20240928T143423Z
UID:4657-1729092600-1729134000@www.olimpo2.it
SUMMARY:WEDNESDAY HOT
DESCRIPTION:Mercoledì 16 ottobre 2024 \n🗣👍Diventa socio o già socio\, potrai partecipare come\n▶ SPA START 15.30 END 20.30 “COPPIA E SINGLE CON UN MINIMO CONTRIBUTO”\n▶ SPA START 21.00 END 03.00 SPA SOLO COPPIE\nIl mercoledì dedicato dedicato a tutti gli amanti del benessere\, accompagnato da un pizzico di brio\, vivendo momenti di puro piacere libertino.\nL’accesso wellness include l’utilizzo della piscina coperta\, scoperta\, sauna\, idromassaggio\, docce\, solarium esterno\, zona disco\, room privé\, corner drink e food.\nTutti i soci riceveranno in dotazione telo bagno\, accappatoio e ciabattine.\nOlimpo 2 Avellino Terme il club unico ed esclusivo del sud Italia\nNon fartelo raccontare\, vivilo!\n(Per tutti coloro vogliano raggiungerci dopo le 21.00\, consigliamo di contattarci prima di accedere al Club).\nCOMUNICAZIONE RISERVATA AI SOCI\n✅ Garantiamo la massima sicurezza.\n🚫 Garantiamo la tua riservatezza.\n📱Per informazioni chiamaci al 3273560315 (anche via whatsapp)\n🌐 https://www.olimpo2.it/\n📍 via fratte ZONA P.I.P.\, Contrada\, Italy\n💟 Ci trovi anche su Annunci69\, Spicy Match\, IOL\, Facebook\, YouTube\, Instagram.
URL:https://www.olimpo2.it/evento/wednesday-hot-16-ottobre-2024/
LOCATION:Olimpo 2\, Contrada Via Fratte snc zona Pip. Avellino\, Forino\, AV\, 83020\, Italia
CATEGORIES:Mercoledì
ATTACH;FMTTYPE=image/jpeg:https://www.olimpo2.it/wp-content/uploads/2024/09/MERCOLEDI-16-OTTOBRE-WEDNESDAY-SPA.jpg
END:VEVENT
BEGIN:VEVENT
DTSTART;TZID=UTC:20241009T153000
DTEND;TZID=UTC:20241010T030000
DTSTAMP:20260421T221441
CREATED:20240928T143336Z
LAST-MODIFIED:20240928T143336Z
UID:4655-1728487800-1728529200@www.olimpo2.it
SUMMARY:WEDNESDAY HOT
DESCRIPTION:Mercoledì 9 ottobre 2024 \n🗣👍Diventa socio o già socio\, potrai partecipare come\n▶ SPA START 15.30 END 20.30 “COPPIA E SINGLE CON UN MINIMO CONTRIBUTO”\n▶ SPA START 21.00 END 03.00 SPA SOLO COPPIE\nIl mercoledì dedicato dedicato a tutti gli amanti del benessere\, accompagnato da un pizzico di brio\, vivendo momenti di puro piacere libertino.\nL’accesso wellness include l’utilizzo della piscina coperta\, scoperta\, sauna\, idromassaggio\, docce\, solarium esterno\, zona disco\, room privé\, corner drink e food.\nTutti i soci riceveranno in dotazione telo bagno\, accappatoio e ciabattine.\nOlimpo 2 Avellino Terme il club unico ed esclusivo del sud Italia\nNon fartelo raccontare\, vivilo!\n(Per tutti coloro vogliano raggiungerci dopo le 21.00\, consigliamo di contattarci prima di accedere al Club).\nCOMUNICAZIONE RISERVATA AI SOCI\n✅ Garantiamo la massima sicurezza.\n🚫 Garantiamo la tua riservatezza.\n📱Per informazioni chiamaci al 3273560315 (anche via whatsapp)\n🌐 https://www.olimpo2.it/\n📍 via fratte ZONA P.I.P.\, Contrada\, Italy\n💟 Ci trovi anche su Annunci69\, Spicy Match\, IOL\, Facebook\, YouTube\, Instagram.
URL:https://www.olimpo2.it/evento/wednesday-hot-9-ottobre-2024/
LOCATION:Olimpo 2\, Contrada Via Fratte snc zona Pip. Avellino\, Forino\, AV\, 83020\, Italia
CATEGORIES:Mercoledì
ATTACH;FMTTYPE=image/jpeg:https://www.olimpo2.it/wp-content/uploads/2024/09/MERCOLEDI-9-OTTOBRE-WEDNESDAY-SPA.jpg
END:VEVENT
BEGIN:VEVENT
DTSTART;TZID=UTC:20241002T153000
DTEND;TZID=UTC:20241003T030000
DTSTAMP:20260421T221441
CREATED:20240928T143212Z
LAST-MODIFIED:20240928T143212Z
UID:4653-1727883000-1727924400@www.olimpo2.it
SUMMARY:WEDNESDAY HOT
DESCRIPTION:Mercoledì 2 ottobre 2024 \n🗣👍Diventa socio o già socio\, potrai partecipare come\n▶ SPA START 15.30 END 20.30 “COPPIA E SINGLE CON UN MINIMO CONTRIBUTO”\n▶ SPA START 21.00 END 03.00 SPA SOLO COPPIE\nIl mercoledì dedicato dedicato a tutti gli amanti del benessere\, accompagnato da un pizzico di brio\, vivendo momenti di puro piacere libertino.\nL’accesso wellness include l’utilizzo della piscina coperta\, scoperta\, sauna\, idromassaggio\, docce\, solarium esterno\, zona disco\, room privé\, corner drink e food.\nTutti i soci riceveranno in dotazione telo bagno\, accappatoio e ciabattine.\nOlimpo 2 Avellino Terme il club unico ed esclusivo del sud Italia\nNon fartelo raccontare\, vivilo!\n(Per tutti coloro vogliano raggiungerci dopo le 21.00\, consigliamo di contattarci prima di accedere al Club).\nCOMUNICAZIONE RISERVATA AI SOCI\n✅ Garantiamo la massima sicurezza.\n🚫 Garantiamo la tua riservatezza.\n📱Per informazioni chiamaci al 3273560315 (anche via whatsapp)\n🌐 https://www.olimpo2.it/\n📍 via fratte ZONA P.I.P.\, Contrada\, Italy\n💟 Ci trovi anche su Annunci69\, Spicy Match\, IOL\, Facebook\, YouTube\, Instagram.
URL:https://www.olimpo2.it/evento/wednesday-hot-2-ottobre-2024/
LOCATION:Olimpo 2\, Contrada Via Fratte snc zona Pip. Avellino\, Forino\, AV\, 83020\, Italia
CATEGORIES:Mercoledì
ATTACH;FMTTYPE=image/jpeg:https://www.olimpo2.it/wp-content/uploads/2024/09/MERCOLEDI-2-OTTOBRE-WEDNESDAY.jpg
END:VEVENT
BEGIN:VEVENT
DTSTART;TZID=UTC:20240925T153000
DTEND;TZID=UTC:20240926T010000
DTSTAMP:20260421T221441
CREATED:20240909T100302Z
LAST-MODIFIED:20240909T100302Z
UID:4548-1727278200-1727312400@www.olimpo2.it
SUMMARY:WEDNESDAY HOT
DESCRIPTION:Mercoledì 25 settembre 2024 \n▶ SPA START 15.30 END 20.30 CONTRIBUTO RIDOTTO SINGOLI\n▶ SPA START 21.00 END 03.00 SPA SOLO COPPIE\nIl mercoledì dedicato dedicato a tutti gli amanti del benessere\, accompagnato da un pizzico di brio\, vivendo momenti di puro piacere libertino.\nL’accesso wellness include l’utilizzo della piscina coperta\, scoperta\, sauna\, idromassaggio\, docce\, solarium esterno\, zona disco libertina\, room privé\, corner drink e food.\nTutti i soci riceveranno in dotazione telo bagno\, accappatoio e ciabattine.\nOlimpo 2 Avellino Terme il club unico ed esclusivo del sud Italia\nNon fartelo raccontare\, vivilo!\nCOMUNICAZIONE RISERVATA AI SOCI\n✅ Garantiamo la massima sicurezza.\n🚫 Garantiamo la tua riservatezza.\n📱Per informazioni chiamaci al 3273560315 (anche via whatsapp)\n🌐 https://www.olimpo2.it/\n📍 via fratte ZONA P.I.P.\, Contrada\, Italy\n💟 Ci trovi anche su Annunci69\, Spicy Match\, IOL\, Facebook\, YouTube\, Instagram.
URL:https://www.olimpo2.it/evento/wednesday-hot-25-settembre-2024/
LOCATION:Olimpo 2\, Contrada Via Fratte snc zona Pip. Avellino\, Forino\, AV\, 83020\, Italia
CATEGORIES:Mercoledì
ATTACH;FMTTYPE=image/jpeg:https://www.olimpo2.it/wp-content/uploads/2024/09/Olimpo-2-Avellino-25-settembre-2024.jpeg
END:VEVENT
BEGIN:VEVENT
DTSTART;TZID=UTC:20240918T153000
DTEND;TZID=UTC:20240919T010000
DTSTAMP:20260421T221441
CREATED:20240909T100151Z
LAST-MODIFIED:20240909T100151Z
UID:4546-1726673400-1726707600@www.olimpo2.it
SUMMARY:WEDNESDAY HOT
DESCRIPTION:Mercoledì 18 settembre 2024 \n▶ SPA START 15.30 END 20.30 CONTRIBUTO RIDOTTO SINGOLI\n▶ SPA START 21.00 END 03.00 SPA SOLO COPPIE\nIl mercoledì dedicato dedicato a tutti gli amanti del benessere\, accompagnato da un pizzico di brio\, vivendo momenti di puro piacere libertino.\nL’accesso wellness include l’utilizzo della piscina coperta\, scoperta\, sauna\, idromassaggio\, docce\, solarium esterno\, zona disco libertina\, room privé\, corner drink e food.\nTutti i soci riceveranno in dotazione telo bagno\, accappatoio e ciabattine.\nOlimpo 2 Avellino Terme il club unico ed esclusivo del sud Italia\nNon fartelo raccontare\, vivilo!\nCOMUNICAZIONE RISERVATA AI SOCI\n✅ Garantiamo la massima sicurezza.\n🚫 Garantiamo la tua riservatezza.\n📱Per informazioni chiamaci al 3273560315 (anche via whatsapp)\n🌐 https://www.olimpo2.it/\n📍 via fratte ZONA P.I.P.\, Contrada\, Italy\n💟 Ci trovi anche su Annunci69\, Spicy Match\, IOL\, Facebook\, YouTube\, Instagram.
URL:https://www.olimpo2.it/evento/wednesday-hot-18-settembre-2024/
LOCATION:Olimpo 2\, Contrada Via Fratte snc zona Pip. Avellino\, Forino\, AV\, 83020\, Italia
CATEGORIES:Mercoledì
ATTACH;FMTTYPE=image/jpeg:https://www.olimpo2.it/wp-content/uploads/2024/09/Olimpo-2-Avellino-18-settembre-2024.jpeg
END:VEVENT
BEGIN:VEVENT
DTSTART;TZID=UTC:20240911T153000
DTEND;TZID=UTC:20240912T010000
DTSTAMP:20260421T221441
CREATED:20240906T065040Z
LAST-MODIFIED:20240906T070317Z
UID:4495-1726068600-1726102800@www.olimpo2.it
SUMMARY:WEDNESDAY SPA
DESCRIPTION:Mercoledì 11 settembre 2024 \n▶ SPA START 15.30 END 20.30 CONTRIBUTO RIDOTTO SINGOLI\n▶ SPA START 21.00 END 03.00 SPA SOLO COPPIE\nIl mercoledì dedicato dedicato a tutti gli amanti del benessere\, accompagnato da un pizzico di brio\, vivendo momenti di puro piacere libertino.\nL’accesso wellness include l’utilizzo della piscina coperta\, scoperta\, sauna\, idromassaggio\, docce\, solarium esterno\, zona disco libertina\, room privé\, corner drink e food.\nTutti i soci riceveranno in dotazione telo bagno\, accappatoio e ciabattine.\nOlimpo 2 Avellino Terme il club unico ed esclusivo del sud Italia\nNon fartelo raccontare\, vivilo!\nCOMUNICAZIONE RISERVATA AI SOCI\n✅ Garantiamo la massima sicurezza.\n🚫 Garantiamo la tua riservatezza.\n📱Per informazioni chiamaci al 3273560315 (anche via whatsapp)\n🌐 https://www.olimpo2.it/\n📍 via fratte ZONA P.I.P.\, Contrada\, Italy\n💟 Ci trovi anche su Annunci69\, Spicy Match\, IOL\, Facebook\, YouTube\, Instagram.
URL:https://www.olimpo2.it/evento/wednesday-spa-11-settembre-2024/
LOCATION:Olimpo 2\, Contrada Via Fratte snc zona Pip. Avellino\, Forino\, AV\, 83020\, Italia
CATEGORIES:Mercoledì
ATTACH;FMTTYPE=image/jpeg:https://www.olimpo2.it/wp-content/uploads/2024/09/MERCOLEDI-11-SETTEMBRE-WEDNESDAY-SPA.jpg
END:VEVENT
END:VCALENDAR